BEGIN:VCALENDAR
VERSION:2.0
CALSCALE:GREGORIAN
METHOD:PUBLISH
PRODID://PLYC//1416990
BEGIN:VEVENT
DTSTAMP:20260424T084354
VTIMEZONE:America/New_York
DTSTART:20260312T230000Z
DTEND:20260313T000000Z
UID:1416990
SUMMARY:Sound Healing + Reiki Meditation
LOCATION:The Union Wellness Boutique , 2159 North Oak Dr., Plymouth, IN, 46563
DESCRIPTION:Sound Healing + Reiki Meditation\n\n03/12/26 07:00 PM EST\n - 03/12/26 08:00 PM EST\Description:\nGroup Sound Healing & Reiki Meditation\nðŸ•¯ï¸ Second Wednesday at The Union, Wellness Boutique\n\Details:\nGroup Sound Healing & Reiki Meditation\nðŸ•¯ï¸ Second Wednesday at The Union, Wellness Boutique\n\nJoin us for a deeply restorative evening of energy healing, vibrational sound, and guided meditation. This monthly group experience blends the soothing frequencies of crystal singing bowls, chimes, and other sound tools with the gentle, intuitive power of Reiki to support emotional release, energetic alignment, and deep relaxation.\n\nWhether you're new to energy work or a seasoned practitioner, this session invites you to slow down, breathe deeply, and reconnect with your inner calm in a welcoming, supportive space.\n\nâœ¨ All are welcome—no experience necessary.\nâœ¨ Mattress pad, blanket, pillow, and eye masks provided.\n\nCome as you are. Leave feeling lighter, clearer, and more at peace.\n\nMore Events...\nAll sessions begin at 7:00 PM\n\n\n	\n	April 8\n	\n	\n	May 13\n	\n	\n	June 10\n	\n	\n	July 8\n	\n	\n	August 12\n	\n	\n	September 9\n	\n	\n	October 14\n	\n	\n	November 11\n	\n	\n	December 9\n	\n\n\Location:\nThe Union Wellness Boutique \n2159 North Oak Dr.\nPlymouth, IN 46563
X-ALT-DESC;FMTTYPE=text/html:Sound Healing + Reiki Meditation<br /><br />03/12/26 07:00 PM EST - 03/12/26 08:00 PM EST<br />Description:<br /><p data-end="234" data-start="136"><strong data-end="178" data-start="136">Group Sound Healing &amp; Reiki Meditation</strong><br data-end="181" data-start="178" />
ðŸ•¯ï¸&nbsp;<em data-end="234" data-start="185">Second Wednesday at The Union, Wellness Boutique</em></p>
<br />Details:<br /><p data-end="234" data-start="136"><strong data-end="178" data-start="136">Group Sound Healing &amp; Reiki Meditation</strong><br data-end="181" data-start="178" />
ðŸ•¯ï¸&nbsp;<em data-end="234" data-start="185">Second Wednesday at The Union, Wellness Boutique</em></p>

<p data-end="569" data-start="236">Join us for a deeply restorative evening of energy healing, vibrational sound, and guided meditation. This monthly group experience blends the soothing frequencies of crystal singing bowls, chimes, and other sound tools with the gentle, intuitive power of Reiki to support emotional release, energetic alignment, and deep relaxation.</p>

<p data-end="756" data-start="571">Whether you're new to energy work or a seasoned practitioner, this session invites you to slow down, breathe deeply, and reconnect with your inner calm in a welcoming, supportive space.</p>

<p data-end="949" data-start="758">âœ¨ All are welcome&mdash;no experience necessary.<br data-end="803" data-start="800" />
âœ¨ Mattress pad, blanket, pillow, and eye masks provided.</p>

<p data-end="1018" data-start="951">Come as you are. Leave feeling lighter, clearer, and more at peace.<br />
<br />
More Events...<br />
All sessions begin at&nbsp;<strong data-end="220" data-start="209">7:00 PM</strong></p>

<ul data-end="343" data-start="222">
	<li data-end="233" data-start="222">
	<p data-end="233" data-start="224">April 8</p>
	</li>
	<li data-end="244" data-start="234">
	<p data-end="244" data-start="236">May 13</p>
	</li>
	<li data-end="256" data-start="245">
	<p data-end="256" data-start="247">June 10</p>
	</li>
	<li data-end="267" data-start="257">
	<p data-end="267" data-start="259">July 8</p>
	</li>
	<li data-end="281" data-start="268">
	<p data-end="281" data-start="270">August 12</p>
	</li>
	<li data-end="297" data-start="282">
	<p data-end="297" data-start="284">September 9</p>
	</li>
	<li data-end="312" data-start="298">
	<p data-end="312" data-start="300">October 14</p>
	</li>
	<li data-end="328" data-start="313">
	<p data-end="328" data-start="315">November 11</p>
	</li>
	<li data-end="343" data-start="329">
	<p data-end="343" data-start="331">December 9</p>
	</li>
</ul>
<br />Location:<br />The Union Wellness Boutique <br />2159 North Oak Dr.<br />Plymouth, IN 46563
PRIORITY:3
TRANSP:TRANSPARENT
BEGIN:VALARM
TRIGGER:-PT5M
ACTION:DISPLAY
DESCRIPTION:Reminder
END:VALARM
END:VEVENT
END:VCALENDAR
