BEGIN:VCALENDAR
VERSION:2.0
CALSCALE:GREGORIAN
METHOD:PUBLISH
PRODID://PLYC//1416991
BEGIN:VEVENT
DTSTAMP:20260424T084401
VTIMEZONE:America/New_York
DTSTART:20260415T230000Z
DTEND:20260416T003000Z
UID:1416991
SUMMARY:Group Healing Circle Experience
LOCATION:The Union Wellness Boutique , 2159 North Oak Dr., Plymouth, IN, 46563
DESCRIPTION:Group Healing Circle Experience\n\n04/15/26 07:00 PM EST\n - 04/15/26 08:30 PM EST\Description:\nGroup Healing Circle Experience\nðŸ•¯ï¸ Every Third Wednesday at The Union, Wellness Boutique\n\Details:\nOur Healing Circle weaves together Traditional Folk Healing (Curanderismo) and Reiki energy work in a supportive group setting. This experience focuses on cleansing heavy or stagnant energy, restoring balance, and creating a safe space for emotional release and inner clarity.\n\nThrough guided intention, gentle energetic cleansing, grounding practices, and the calming flow of Reiki, participants are invited into a deeply nurturing environment that fosters connection, safety, and renewal.\n\nA beautiful opportunity to soften, reset, and receive healing within community.\n\nâœ¨ All are welcome—no experience necessary.\nâœ¨ Mattress pad, blanket, pillow, and eye masks provided.\n\nAll sessions begin at 7:00 PM\n\n\n	\n	April 15\n	\n	\n	May 20\n	\n	\n	June 17\n	\n	\n	July 15\n	\n	\n	August 19\n	\n	\n	September 16\n	\n	\n	October 21\n	\n	\n	November 18\n	\n	\n	December 16\n	\n\n\Location:\nThe Union Wellness Boutique \n2159 North Oak Dr.\nPlymouth, IN 46563
X-ALT-DESC;FMTTYPE=text/html:Group Healing Circle Experience<br /><br />04/15/26 07:00 PM EST - 04/15/26 08:30 PM EST<br />Description:<br /><p data-end="234" data-start="136"><span style="font-size:14px"><strong>Group Healing Circle Experience</strong></span><br data-end="181" data-start="178" />
ðŸ•¯ï¸ <em>Every&nbsp;<em data-end="234" data-start="185">Third Wednesday at The Union, Wellness Boutique</em></em></p>
<br />Details:<br /><p>Our Healing Circle weaves together&nbsp;<strong>Traditional Folk Healing (Curanderismo)</strong>&nbsp;and&nbsp;<strong>Reiki energy work</strong>&nbsp;in a supportive group setting. This experience focuses on cleansing heavy or stagnant energy, restoring balance, and creating a safe space for emotional release and inner clarity.</p>

<p>Through guided intention, gentle energetic cleansing, grounding practices, and the calming flow of Reiki, participants are invited into a deeply nurturing environment that fosters connection, safety, and renewal.</p>

<p>A beautiful opportunity to soften, reset, and receive healing within community.</p>

<p data-end="949" data-start="758">âœ¨ All are welcome&mdash;no experience necessary.<br data-end="803" data-start="800" />
âœ¨ Mattress pad, blanket, pillow, and eye masks provided.</p>

<p data-end="415" data-start="382">All sessions begin at&nbsp;<strong data-end="415" data-start="404">7:00 PM</strong></p>

<ul data-end="542" data-start="417">
	<li data-end="429" data-start="417">
	<p data-end="429" data-start="419">April 15</p>
	</li>
	<li data-end="440" data-start="430">
	<p data-end="440" data-start="432">May 20</p>
	</li>
	<li data-end="452" data-start="441">
	<p data-end="452" data-start="443">June 17</p>
	</li>
	<li data-end="464" data-start="453">
	<p data-end="464" data-start="455">July 15</p>
	</li>
	<li data-end="478" data-start="465">
	<p data-end="478" data-start="467">August 19</p>
	</li>
	<li data-end="495" data-start="479">
	<p data-end="495" data-start="481">September 16</p>
	</li>
	<li data-end="510" data-start="496">
	<p data-end="510" data-start="498">October 21</p>
	</li>
	<li data-end="526" data-start="511">
	<p data-end="526" data-start="513">November 18</p>
	</li>
	<li data-end="542" data-start="527">
	<p data-end="542" data-start="529">December 16</p>
	</li>
</ul>
<br />Location:<br />The Union Wellness Boutique <br />2159 North Oak Dr.<br />Plymouth, IN 46563
PRIORITY:3
TRANSP:TRANSPARENT
BEGIN:VALARM
TRIGGER:-PT5M
ACTION:DISPLAY
DESCRIPTION:Reminder
END:VALARM
END:VEVENT
END:VCALENDAR
