BEGIN:VCALENDAR
VERSION:2.0
CALSCALE:GREGORIAN
METHOD:PUBLISH
PRODID://PLYC//1416992
BEGIN:VEVENT
DTSTAMP:20260424T084235
VTIMEZONE:America/New_York
DTSTART:20260422T230000Z
DTEND:20260423T003000Z
UID:1416992
SUMMARY:Breathwork: Group Meditation
LOCATION:The Union Wellness Boutique , 2159 North Oak Dr., Plymouth, IN, 46563
DESCRIPTION:Breathwork: Group Meditation\n\n04/22/26 07:00 PM EST\n - 04/22/26 08:30 PM EST\Description:\nBreathwork: Group Meditationâ€‹\nðŸ•¯ï¸ Every Fourth Wednesday at The Union, Wellness Boutique\n\Details:\nEmbark on a transformative breathwork journey at The Union, Wellness Boutique, guided by Sandy Orsund, certified in Conscious Connected Breathwork. In this group experience, you’ll use intentional, rhythmic breathing to release stress, reconnect with your authentic self, and invite balance to body, mind, and spirit.\n\nEach session includes a brief introduction, intention setting, guided breathwork set to music, and time afterward for grounding and integration. To support deep relaxation, we offer cozy comfort items such as a mattress pad, blanket, pillow, and eye mask.\n\nThis safe, supportive environment encourages both relaxation and personal growth, allowing space to let go of what no longer serves you and welcome in clarity, renewal, and healing. All are welcome—whether it’s your first time exploring breathwork or you’re returning to deepen your practice.\n\nâœ¨ All are welcome—no experience necessary.\nâœ¨ Mattress pad, blanket, pillow, and eye masks provided.\n\nAll sessions begin at 7:00 PM\n\nApril 22\n\nMay 27\n\nJune 24\n\nJuly 22\n\nAugust 26\n\nSeptember 23\n\nOctober 28\n\nNovember 25\n\nDecember 23\n\Location:\nThe Union Wellness Boutique \n2159 North Oak Dr.\nPlymouth, IN 46563
X-ALT-DESC;FMTTYPE=text/html:Breathwork: Group Meditation<br /><br />04/22/26 07:00 PM EST - 04/22/26 08:30 PM EST<br />Description:<br /><p data-end="234" data-start="136"><strong><span style="font-size:14px">Breathwork: Group Meditationâ€‹</span></strong><br data-end="181" data-start="178" />
ðŸ•¯ï¸ <em>Every&nbsp;<em data-end="234" data-start="185">Fourth Wednesday at The Union, Wellness Boutique</em></em></p>
<br />Details:<br /><p>Embark on a transformative breathwork journey at The Union, Wellness Boutique, guided by Sandy Orsund, certified in Conscious Connected Breathwork. In this group experience, you&rsquo;ll use intentional, rhythmic breathing to release stress, reconnect with your authentic self, and invite balance to body, mind, and spirit.</p>

<p>Each session includes a brief introduction, intention setting, guided breathwork set to music, and time afterward for grounding and integration. To support deep relaxation, we offer cozy comfort items such as a mattress pad, blanket, pillow, and eye mask.</p>

<p>This safe, supportive environment encourages both relaxation and personal growth, allowing space to let go of what no longer serves you and welcome in clarity, renewal, and healing. All are welcome&mdash;whether it&rsquo;s your first time exploring breathwork or you&rsquo;re returning to deepen your practice.</p>

<p data-end="949" data-start="758">âœ¨ All are welcome&mdash;no experience necessary.<br data-end="803" data-start="800" />
âœ¨ Mattress pad, blanket, pillow, and eye masks provided.</p>

<p data-end="415" data-start="382">All sessions begin at&nbsp;<strong data-end="415" data-start="404">7:00 PM</strong><br />
<br />
April 22</p>

<p dir="ltr" role="presentation">May 27</p>

<p dir="ltr" role="presentation">June 24</p>

<p dir="ltr" role="presentation">July 22</p>

<p dir="ltr" role="presentation">August 26</p>

<p dir="ltr" role="presentation">September 23</p>

<p dir="ltr" role="presentation">October 28</p>

<p dir="ltr" role="presentation">November 25</p>

<p dir="ltr" role="presentation">December 23</p>
<br />Location:<br />The Union Wellness Boutique <br />2159 North Oak Dr.<br />Plymouth, IN 46563
PRIORITY:3
TRANSP:TRANSPARENT
BEGIN:VALARM
TRIGGER:-PT5M
ACTION:DISPLAY
DESCRIPTION:Reminder
END:VALARM
END:VEVENT
END:VCALENDAR
