BEGIN:VCALENDAR
VERSION:2.0
CALSCALE:GREGORIAN
METHOD:PUBLISH
PRODID://JCOC//1417177
BEGIN:VEVENT
DTSTAMP:20260424T110758
VTIMEZONE:America/Chicago
DTSTART:20260330T190000Z
DTEND:20260330T200000Z
UID:1417177
SUMMARY:Ribbon Cutting: 10GYM Jenks
LOCATION:
DESCRIPTION:Ribbon Cutting: 10GYM Jenks\n\n03/30/26 02:00 PM CST\n - 03/30/26 03:00 PM CST\Description:\nJoin the Jenks Chamber for a Ribbon Cutting celebration welcoming 10GYM Jenks to our community! Come meet the team, tour the new facility, and help us celebrate this exciting addition to Jenks.\n\n10GYM offers a welcoming fitness environment with modern cardio and strength equipment, functional training areas, group fitness options, recovery amenities, and more. Their new Jenks location is open 24/7 and designed for everyone—from beginners to seasoned gym-goers looking to reach their fitness goals. \n\nCommunity members, chamber members, and friends are invited to attend. Help us give 10GYM a warm Jenks welcome!\n
X-ALT-DESC;FMTTYPE=text/html:Ribbon Cutting: 10GYM Jenks<br /><br />03/30/26 02:00 PM CST - 03/30/26 03:00 PM CST<br />Description:<br /><p data-end="438" data-start="221">Join the Jenks Chamber for a Ribbon Cutting celebration welcoming&nbsp;<strong data-end="322" data-start="307">10GYM Jenks</strong>&nbsp;to our community! Come meet the team, tour the new facility, and help us celebrate this exciting addition to Jenks.</p>

<p data-end="786" data-start="440">10GYM offers a welcoming fitness environment with modern cardio and strength equipment, functional training areas, group fitness options, recovery amenities, and more. Their new Jenks location is open 24/7 and designed for everyone&mdash;from beginners to seasoned gym-goers looking to reach their fitness goals.&nbsp;</p>

<p data-end="899" data-start="788">Community members, chamber members, and friends are invited to attend. Help us give 10GYM a warm Jenks welcome!</p>

PRIORITY:3
TRANSP:TRANSPARENT
BEGIN:VALARM
TRIGGER:-PT5M
ACTION:DISPLAY
DESCRIPTION:Reminder
END:VALARM
END:VEVENT
END:VCALENDAR
