BEGIN:VCALENDAR
VERSION:2.0
CALSCALE:GREGORIAN
METHOD:PUBLISH
PRODID://LASS//1417181
BEGIN:VEVENT
DTSTAMP:20260424T085848
VTIMEZONE:America/Los_Angeles
DTSTART:20260321T160000Z
DTEND:20260321T213000Z
UID:1417181
SUMMARY:8th Annual Family Connections Conference
LOCATION:
DESCRIPTION:8th Annual Family Connections Conference\n\n03/21/26 09:00 AM PST\n - 03/21/26 02:30 PM PST
X-ALT-DESC;FMTTYPE=text/html:8th Annual Family Connections Conference<br /><br />03/21/26 09:00 AM PST - 03/21/26 02:30 PM PST
PRIORITY:3
TRANSP:TRANSPARENT
BEGIN:VALARM
TRIGGER:-PT5M
ACTION:DISPLAY
DESCRIPTION:Reminder
END:VALARM
END:VEVENT
END:VCALENDAR
