BEGIN:VCALENDAR
VERSION:2.0
CALSCALE:GREGORIAN
METHOD:PUBLISH
PRODID://LASS//1417184
BEGIN:VEVENT
DTSTAMP:20260424T085848
VTIMEZONE:America/Los_Angeles
DTSTART:20260321T180000Z
DTEND:20260321T210000Z
UID:1417184
SUMMARY:Spring Equinox Childrenâ€™s Program
LOCATION:
DESCRIPTION:Spring Equinox Childrenâ€™s Program\n\n03/21/26 11:00 AM PST\n - 03/21/26 02:00 PM PST
X-ALT-DESC;FMTTYPE=text/html:Spring Equinox Childrenâ€™s Program<br /><br />03/21/26 11:00 AM PST - 03/21/26 02:00 PM PST
PRIORITY:3
TRANSP:TRANSPARENT
BEGIN:VALARM
TRIGGER:-PT5M
ACTION:DISPLAY
DESCRIPTION:Reminder
END:VALARM
END:VEVENT
END:VCALENDAR
