BEGIN:VCALENDAR
VERSION:2.0
CALSCALE:GREGORIAN
METHOD:PUBLISH
PRODID://LASS//1417194
BEGIN:VEVENT
DTSTAMP:20260424T085848
VTIMEZONE:America/Los_Angeles
DTSTART:20260305T020000Z
DTEND:20260315T041500Z
UID:1417194
SUMMARY:Breaking Point Concert Series
LOCATION:
DESCRIPTION:Breaking Point Concert Series\n\n03/04/26 06:00 PM PST\n - 03/14/26 09:15 PM PST
X-ALT-DESC;FMTTYPE=text/html:Breaking Point Concert Series<br /><br />03/04/26 06:00 PM PST - 03/14/26 09:15 PM PST
PRIORITY:3
TRANSP:TRANSPARENT
BEGIN:VALARM
TRIGGER:-PT5M
ACTION:DISPLAY
DESCRIPTION:Reminder
END:VALARM
END:VEVENT
END:VCALENDAR
