BEGIN:VCALENDAR
VERSION:2.0
CALSCALE:GREGORIAN
METHOD:PUBLISH
PRODID://LASS//1417198
BEGIN:VEVENT
DTSTAMP:20260424T085847
VTIMEZONE:America/Los_Angeles
DTSTART:20260308T020000Z
DTEND:20260308T050000Z
UID:1417198
SUMMARY:Honey Lake Ducks Unlimited Dinner
LOCATION:
DESCRIPTION:Honey Lake Ducks Unlimited Dinner\n\n03/07/26 06:00 PM PST\n - 03/07/26 09:00 PM PST
X-ALT-DESC;FMTTYPE=text/html:Honey Lake Ducks Unlimited Dinner<br /><br />03/07/26 06:00 PM PST - 03/07/26 09:00 PM PST
PRIORITY:3
TRANSP:TRANSPARENT
BEGIN:VALARM
TRIGGER:-PT5M
ACTION:DISPLAY
DESCRIPTION:Reminder
END:VALARM
END:VEVENT
END:VCALENDAR
