BEGIN:VCALENDAR
VERSION:2.0
CALSCALE:GREGORIAN
METHOD:PUBLISH
PRODID://LASS//1417205
BEGIN:VEVENT
DTSTAMP:20260424T075018
VTIMEZONE:America/Los_Angeles
DTSTART:20260424T170000Z
DTEND:20260424T200000Z
UID:1417205
SUMMARY:Spring Job Fair at Lassen College 2026
LOCATION:
DESCRIPTION:Spring Job Fair at Lassen College 2026\n\n04/24/26 10:00 AM PST\n - 04/24/26 01:00 PM PST
X-ALT-DESC;FMTTYPE=text/html:Spring Job Fair at Lassen College 2026<br /><br />04/24/26 10:00 AM PST - 04/24/26 01:00 PM PST
PRIORITY:3
TRANSP:TRANSPARENT
BEGIN:VALARM
TRIGGER:-PT5M
ACTION:DISPLAY
DESCRIPTION:Reminder
END:VALARM
END:VEVENT
END:VCALENDAR
