BEGIN:VCALENDAR
VERSION:2.0
CALSCALE:GREGORIAN
METHOD:PUBLISH
PRODID://LASS//1417209
BEGIN:VEVENT
DTSTAMP:20260424T074422
VTIMEZONE:America/Los_Angeles
DTSTART:20260425T170000Z
DTEND:20260425T220000Z
UID:1417209
SUMMARY:Â 3rd Annual Lassen County Chili Cook-Off 2026
LOCATION:
DESCRIPTION:Â 3rd Annual Lassen County Chili Cook-Off 2026\n\n04/25/26 10:00 AM PST\n - 04/25/26 03:00 PM PST
X-ALT-DESC;FMTTYPE=text/html:Â 3rd Annual Lassen County Chili Cook-Off 2026<br /><br />04/25/26 10:00 AM PST - 04/25/26 03:00 PM PST
PRIORITY:3
TRANSP:TRANSPARENT
BEGIN:VALARM
TRIGGER:-PT5M
ACTION:DISPLAY
DESCRIPTION:Reminder
END:VALARM
END:VEVENT
END:VCALENDAR
