BEGIN:VCALENDAR
VERSION:2.0
CALSCALE:GREGORIAN
METHOD:PUBLISH
PRODID://JCOC//1417387
BEGIN:VEVENT
DTSTAMP:20260424T110757
VTIMEZONE:America/Chicago
DTSTART:20260311T163000Z
DTEND:20260311T180000Z
UID:1417387
SUMMARY:Member Luncheon - March 2026
LOCATION:The Ranch, 10596 S. Elm Street, Jenks, OK, 74037
DESCRIPTION:Member Luncheon - March 2026\n\n03/11/26 11:30 AM CST\n - 03/11/26 01:00 PM CST\Description:\nWe’re honored to welcome Heather Turner, Executive Director of CORE for the Oklahoma Department of Commerce and former President and CEO of the Jenks Chamber of Commerce. With extensive experience in economic development, business leadership, and community revitalization, Heather brings a dynamic perspective on growing strong communities and thriving economies.\n\nDoors Open: 11:30AM\nProgram Starts: 12:00PM\n\nLunch sponsored by Mi Tierra Cocina Mexicana\n\nClick to View: Liability Waiver\Location:\nThe Ranch\n10596 S. Elm Street\nJenks, OK 74037
X-ALT-DESC;FMTTYPE=text/html:Member Luncheon - March 2026<br /><br />03/11/26 11:30 AM CST - 03/11/26 01:00 PM CST<br />Description:<br />We&rsquo;re honored to welcome Heather Turner, Executive Director of CORE for the Oklahoma Department of Commerce and former President and CEO of the Jenks Chamber of Commerce. With extensive experience in economic development, business leadership, and community revitalization, Heather brings a dynamic perspective on growing strong communities and thriving economies.<br />
<br />
Doors Open: 11:30AM<br />
Program Starts: 12:00PM<br />
<br />
Lunch sponsored by Mi Tierra Cocina Mexicana<br />
<br />
<strong>Click to View:&nbsp;<a href="https://www.dropbox.com/scl/fi/xh0okrwobjv6y4if070ca/jenks-chamber-of-commerce-liability-waiver.pdf?rlkey=wj6uvimc4q2zlk53to4b1rgxe&amp;st=72p7pdtm&amp;dl=0">Liability Waiver</a></strong><br />Location:<br />The Ranch<br />10596 S. Elm Street<br />Jenks, OK 74037
PRIORITY:3
TRANSP:TRANSPARENT
BEGIN:VALARM
TRIGGER:-PT5M
ACTION:DISPLAY
DESCRIPTION:Reminder
END:VALARM
END:VEVENT
END:VCALENDAR
