BEGIN:VCALENDAR
VERSION:2.0
CALSCALE:GREGORIAN
METHOD:PUBLISH
PRODID://TSCC//1417970
BEGIN:VEVENT
DTSTAMP:20260424T112602
VTIMEZONE:America/Denver
DTSTART:20260310T174500Z
DTEND:20260310T190000Z
UID:1417970
SUMMARY:March Noon Networking - Community Leadership Update
LOCATION:Springville Civic Center - Multipurpose Room, 110 S. Main St., Springville, UT, 84663
DESCRIPTION:March Noon Networking - Community Leadership Update\n\n03/10/26 11:45 AM MST\n - 03/10/26 01:00 PM MST\Description:\nJoin us for an engaging Noon Networking luncheon featuring updates from our local city leaders from Springville and Mapleton City on important topics, current initiatives, and what’s happening in our communities. This is your opportunity to stay informed about policies, projects, growth, and decisions that directly impact your business.\n\nCome network with fellow business owners, enjoy lunch, and take part in meaningful conversation. You’ll have the chance to ask questions, gain clarity, and better understand how local developments may influence your industry, customers, and future opportunities.\n\nBeyond the updates, Noon Networking is about building relationships. Connect with city officials, Chamber members, and community leaders in a setting designed for collaboration and conversation. Staying informed is important, but being connected is powerful. This is your seat at the table.\n\n\n*We love welcoming visitors and believe our business community is strongest when everyone is involved. All are invited to attend Noon Networking and be part of the conversation.\n\nLunch is provided at no cost for Chamber members who are current on their membership dues as part of their member benefits. Guests and non-members are absolutely welcome to join us; we simply ask that they cover the cost of their lunch.\n\nIf you’re not yet a member, this is a wonderful opportunity to experience the value of the Chamber firsthand. We’d love to have you join us and become part of our growing business community.\n\Location:\nSpringville Civic Center - Multipurpose Room\n110 S. Main St.\nSpringville, UT 84663
X-ALT-DESC;FMTTYPE=text/html:March Noon Networking - Community Leadership Update<br /><br />03/10/26 11:45 AM MST - 03/10/26 01:00 PM MST<br />Description:<br /><p data-end="418" data-start="115">Join us for an engaging Noon Networking luncheon featuring updates from our local city leaders from Springville and Mapleton City on important topics, current initiatives, and what&rsquo;s happening in our communities. This is your opportunity to stay informed about policies, projects, growth, and decisions that directly impact your business.</p>

<p data-end="682" data-start="420">Come network with fellow business owners, enjoy lunch, and take part in meaningful conversation. You&rsquo;ll have the chance to ask questions, gain clarity, and better understand how local developments may influence your industry, customers, and future opportunities.</p>

<p data-end="975" data-is-last-node="" data-is-only-node="" data-start="684">Beyond the updates, Noon Networking is about building relationships. Connect with city officials, Chamber members, and community leaders in a setting designed for collaboration and conversation. Staying informed is important, but being connected is powerful. This is your seat at the table.</p>

<p data-end="1434" data-start="1136"><br />
<em>*We love welcoming visitors and believe our business community is strongest when everyone is involved. All are invited to attend Noon Networking and be part of the conversation.</em></p>

<p data-end="497" data-start="261"><em>Lunch is provided at <strong>no cost for Chamber members who are current on their membership dues </strong>as part of their member benefits. Guests and non-members are absolutely welcome to join us; we simply ask that they cover the cost of their lunch.</em></p>

<p data-end="689" data-is-last-node="" data-is-only-node="" data-start="499"><em>If you&rsquo;re not yet a member, this is a wonderful opportunity to experience the value of the Chamber firsthand. We&rsquo;d love to have you join us and become part of our growing business community.</em></p>
<br />Location:<br />Springville Civic Center - Multipurpose Room<br />110 S. Main St.<br />Springville, UT 84663
PRIORITY:3
TRANSP:TRANSPARENT
BEGIN:VALARM
TRIGGER:-PT5M
ACTION:DISPLAY
DESCRIPTION:Reminder
END:VALARM
END:VEVENT
END:VCALENDAR
