BEGIN:VCALENDAR
VERSION:2.0
CALSCALE:GREGORIAN
METHOD:PUBLISH
PRODID://TSCC//1417971
BEGIN:VEVENT
DTSTAMP:20260424T094713
VTIMEZONE:America/Denver
DTSTART:20260512T174500Z
DTEND:20260512T190000Z
UID:1417971
SUMMARY:May Noon Networking - Strong Minds, Strong Business
LOCATION:Springville Civic Center - Multipurpose Room, 110 S. Main St., Springville, UT, 84663
DESCRIPTION:May Noon Networking - Strong Minds, Strong Business\n\n05/12/26 11:45 AM MST\n - 05/12/26 01:00 PM MST\Description:\nMay is Mental Health Awareness Month, and this month’s Noon Networking will focus on something just as important as strategy, sales, and scaling — our emotional and mental well-being.\n\nAs business owners and leaders, we are decision-makers, problem-solvers, employers, parents, and community builders. The reality is:\n\n\n	\n	1 in 5 adults experience a mental health challenge each year.\n	\n	\n	Nearly 60% of entrepreneurs report struggling with anxiety or stress.\n	\n	\n	Burnout is one of the leading contributors to decreased productivity and leadership fatigue.\n	\n\n\nMental health isn’t just personal, it directly impacts leadership effectiveness, workplace culture, employee retention, and long-term business growth.\n\nThis session will focus on practical, empowering insights to help us:\n\n\n	\n	Build emotional resilience\n	\n	\n	Strengthen leadership capacity\n	\n	\n	Create healthier workplace environments\n	\n	\n	Sustain energy while growing our businesses\n	\n\n\nWe’re keeping this topic uplifting, actionable, and business-focused. You’ll walk away with tools and perspective — not pressure.\n\nJoin us for lunch, meaningful conversation, and networking with fellow leaders who understand that strong businesses are built by strong, healthy people.\n\nBecause growth isn’t just financial — it’s personal, too.\n\n*We love welcoming visitors and believe our business community is strongest when everyone is involved. All are invited to attend Noon Networking and be part of the conversation.\n\nLunch is provided at no cost for Chamber members who are current on their membership dues as part of their member benefits. Guests and non-members are absolutely welcome to join us; we simply ask that they cover the cost of their lunch.\n\nIf you’re not yet a member, this is a wonderful opportunity to experience the value of the Chamber firsthand. We’d love to have you join us and become part of our growing business community.\n\Location:\nSpringville Civic Center - Multipurpose Room\n110 S. Main St.\nSpringville, UT 84663
X-ALT-DESC;FMTTYPE=text/html:May Noon Networking - Strong Minds, Strong Business<br /><br />05/12/26 11:45 AM MST - 05/12/26 01:00 PM MST<br />Description:<br /><p data-end="411" data-start="228">May is Mental Health Awareness Month, and this month&rsquo;s Noon Networking will focus on something just as important as strategy, sales, and scaling &mdash; our emotional and mental well-being.</p>

<p data-end="545" data-start="413">As business owners and leaders, we are decision-makers, problem-solvers, employers, parents, and community builders. The reality is:</p>

<ul data-end="783" data-start="547">
	<li data-end="612" data-start="547">
	<p data-end="612" data-start="549">1 in 5 adults experience a mental health challenge each year.</p>
	</li>
	<li data-end="686" data-start="613">
	<p data-end="686" data-start="615">Nearly 60% of entrepreneurs report struggling with anxiety or stress.</p>
	</li>
	<li data-end="783" data-start="687">
	<p data-end="783" data-start="689">Burnout is one of the leading contributors to decreased productivity and leadership fatigue.</p>
	</li>
</ul>

<p data-end="936" data-start="785">Mental health isn&rsquo;t just personal, it directly impacts leadership effectiveness, workplace culture, employee retention, and long-term business growth.</p>

<p data-end="1007" data-start="938">This session will focus on practical, empowering insights to help us:</p>

<ul data-end="1165" data-start="1008">
	<li data-end="1038" data-start="1008">
	<p data-end="1038" data-start="1010">Build emotional resilience</p>
	</li>
	<li data-end="1073" data-start="1039">
	<p data-end="1073" data-start="1041">Strengthen leadership capacity</p>
	</li>
	<li data-end="1117" data-start="1074">
	<p data-end="1117" data-start="1076">Create healthier workplace environments</p>
	</li>
	<li data-end="1165" data-start="1118">
	<p data-end="1165" data-start="1120">Sustain energy while growing our businesses</p>
	</li>
</ul>

<p data-end="1296" data-start="1167">We&rsquo;re keeping this topic uplifting, actionable, and business-focused. You&rsquo;ll walk away with tools and perspective &mdash; not pressure.</p>

<p data-end="1451" data-start="1298">Join us for lunch, meaningful conversation, and networking with fellow leaders who understand that strong businesses are built by strong, healthy people.</p>

<p data-end="1510" data-start="1453">Because growth isn&rsquo;t just financial &mdash; it&rsquo;s personal, too.<br />
<br />
<em>*We love welcoming visitors and believe our business community is strongest when everyone is involved. All are invited to attend Noon Networking and be part of the conversation.</em></p>

<p data-end="497" data-start="261"><em>Lunch is provided at <strong>no cost for Chamber members who are current on their membership dues </strong>as part of their member benefits. Guests and non-members are absolutely welcome to join us; we simply ask that they cover the cost of their lunch.</em></p>

<p data-end="689" data-is-last-node="" data-is-only-node="" data-start="499"><em>If you&rsquo;re not yet a member, this is a wonderful opportunity to experience the value of the Chamber firsthand. We&rsquo;d love to have you join us and become part of our growing business community.</em></p>
<br />Location:<br />Springville Civic Center - Multipurpose Room<br />110 S. Main St.<br />Springville, UT 84663
PRIORITY:3
TRANSP:TRANSPARENT
BEGIN:VALARM
TRIGGER:-PT5M
ACTION:DISPLAY
DESCRIPTION:Reminder
END:VALARM
END:VEVENT
END:VCALENDAR
