BEGIN:VCALENDAR
VERSION:2.0
CALSCALE:GREGORIAN
METHOD:PUBLISH
PRODID://RRCC//1418262
BEGIN:VEVENT
DTSTAMP:20260420T004926
VTIMEZONE:America/Chicago
DTSTART:20260502T130000Z
DTEND:20260503T183000Z
UID:1418262
SUMMARY:Clarksville Country Club Golf Tournament
LOCATION:, TX
DESCRIPTION:Clarksville Country Club Golf Tournament\n\n05/02/26 08:00 AM CST\n - 05/03/26 01:30 PM CST\Description:\nEarly Two-Man Scramble with Calcutta\n\nFor more information, call CCC:  903-427-3450
X-ALT-DESC;FMTTYPE=text/html:Clarksville Country Club Golf Tournament<br /><br />05/02/26 08:00 AM CST - 05/03/26 01:30 PM CST<br />Description:<br />Early Two-Man Scramble with Calcutta<br />
<br />
For more information, call CCC:&nbsp; 903-427-3450
PRIORITY:3
TRANSP:TRANSPARENT
BEGIN:VALARM
TRIGGER:-PT5M
ACTION:DISPLAY
DESCRIPTION:Reminder
END:VALARM
END:VEVENT
END:VCALENDAR
