BEGIN:VCALENDAR
VERSION:2.0
CALSCALE:GREGORIAN
METHOD:PUBLISH
PRODID://PLYC//1418481
BEGIN:VEVENT
DTSTAMP:20260424T072835
VTIMEZONE:America/New_York
DTSTART:20260502T170000Z
DTEND:20260502T190000Z
UID:1418481
SUMMARY:Piece of Cake: A Handmade Plate & Dessert Experience
LOCATION:REES Theatre, 100 N. Michigan St., Plymouth, IN, 46563
DESCRIPTION:Piece of Cake: A Handmade Plate & Dessert Experience\n\n05/02/26 01:00 PM EST\n - 05/02/26 03:00 PM EST\Description:\nJoin us for Piece of Cake Saturday, May 2nd from 1–3 PM at the REES Theatre for an afternoon filled with art, desserts, and creative connection.\n\nðŸŽŸï¸ Your $35 ticket includes:\nâœ” A hand-painted ceramic cake plate (yours to keep!)\nâœ” Handmade cakes and desserts\nâœ” Live music\nâœ” A hands-on art activity\nâœ” Coffee and beverage bar\n\nWhether you come with a friend, treat your mom, or just want to enjoy something special for yourself, Piece of Cake is the perfect way to indulge in creativity and community.\n\nProceeds support the Heartland Art Center Expansion Project—help us grow our vision for a vibrant regional arts hub right here in downtown Plymouth.\n\nðŸ‘‰ Tickets are limited—get yours now: https://www.cognitoforms.com/HeartlandArtists1/PieceOfCakeTicketRegistration2026\n\nWe can’t wait to share this sweet celebration with you!\n\n—\n\Details:\nJoin us for Piece of Cake Saturday, May 2nd from 1–3 PM at the REES Theatre for an afternoon filled with art, desserts, and creative connection.\n\nðŸŽŸï¸ Your $35 ticket includes:\nâœ” A hand-painted ceramic cake plate (yours to keep!)\nâœ” Handmade cakes and desserts\nâœ” Live music\nâœ” A hands-on art activity\nâœ” Coffee and beverage bar\n\nWhether you come with a friend, treat your mom, or just want to enjoy something special for yourself, Piece of Cake is the perfect way to indulge in creativity and community.\n\nProceeds support the Heartland Art Center Expansion Project—help us grow our vision for a vibrant regional arts hub right here in downtown Plymouth.\n\nðŸ‘‰ Tickets are limited—get yours now: https://www.cognitoforms.com/HeartlandArtists1/PieceOfCakeTicketRegistration2026\n\nWe can’t wait to share this sweet celebration with you!\n\n—\n\Location:\nREES Theatre\n100 N. Michigan St.\nPlymouth, IN 46563
X-ALT-DESC;FMTTYPE=text/html:Piece of Cake: A Handmade Plate & Dessert Experience<br /><br />05/02/26 01:00 PM EST - 05/02/26 03:00 PM EST<br />Description:<br /><p data-end="612" data-start="442">Join us for <strong data-end="471" data-start="454">Piece of Cake</strong><span data-end="471" data-start="454">&nbsp;</span><strong data-end="511" data-start="477">Saturday, May 2nd from 1&ndash;3 PM</strong> at the <strong data-end="543" data-start="519">REES Theatre</strong>&nbsp;for an afternoon filled with art, desserts, and creative connection.</p>

<p data-end="805" data-start="614">ðŸŽŸï¸ <strong data-end="647" data-start="618">Your $35 ticket includes:</strong><br data-end="650" data-start="647" />
âœ” A hand-painted ceramic cake plate (yours to keep!)<br data-end="705" data-start="702" />
âœ” Handmade cakes and desserts<br data-end="737" data-start="734" />
âœ” Live music<br data-end="752" data-start="749" />
âœ” A hands-on art activity<br data-end="780" data-start="777" />
âœ” Coffee and beverage bar</p>

<p data-end="983" data-start="807">Whether you come with a friend, treat your mom, or just want to enjoy something special for yourself, <em data-end="924" data-start="909">Piece of Cake</em> is the perfect way to indulge in creativity and community.</p>

<p data-end="1141" data-start="985"><strong data-end="1052" data-start="985">Proceeds support the Heartland Art Center Expansion Project</strong>&mdash;help us grow our vision for a vibrant regional arts hub right here in downtown Plymouth.</p>

<p data-end="1207" data-start="1143">ðŸ‘‰ <strong data-end="1184" data-start="1146">Tickets are limited&mdash;get yours now:&nbsp;</strong><a href="https://www.cognitoforms.com/HeartlandArtists1/PieceOfCakeTicketRegistration2026">https://www.cognitoforms.com/HeartlandArtists1/PieceOfCakeTicketRegistration2026</a></p>

<p data-end="1264" data-start="1209">We can&rsquo;t wait to share this sweet celebration with you!</p>

<p data-end="1374" data-start="1266">&mdash;</p>
<br />Details:<br /><p data-end="612" data-start="442">Join us for <strong data-end="471" data-start="454">Piece of Cake</strong>&nbsp;<strong data-end="511" data-start="477">Saturday, May 2nd from 1&ndash;3 PM</strong> at the <strong data-end="543" data-start="519">REES Theatre</strong>&nbsp;for an afternoon filled with art, desserts, and creative connection.</p>

<p data-end="805" data-start="614">ðŸŽŸï¸ <strong data-end="647" data-start="618">Your $35 ticket includes:</strong><br data-end="650" data-start="647" />
âœ” A hand-painted ceramic cake plate (yours to keep!)<br data-end="705" data-start="702" />
âœ” Handmade cakes and desserts<br data-end="737" data-start="734" />
âœ” Live music<br data-end="752" data-start="749" />
âœ” A hands-on art activity<br data-end="780" data-start="777" />
âœ” Coffee and beverage bar</p>

<p data-end="983" data-start="807">Whether you come with a friend, treat your mom, or just want to enjoy something special for yourself, <em data-end="924" data-start="909">Piece of Cake</em> is the perfect way to indulge in creativity and community.</p>

<p data-end="1141" data-start="985"><strong data-end="1052" data-start="985">Proceeds support the Heartland Art Center Expansion Project</strong>&mdash;help us grow our vision for a vibrant regional arts hub right here in downtown Plymouth.</p>

<p data-end="1207" data-start="1143">ðŸ‘‰ <strong data-end="1184" data-start="1146">Tickets are limited&mdash;get yours now:&nbsp;</strong><a href="https://www.cognitoforms.com/HeartlandArtists1/PieceOfCakeTicketRegistration2026">https://www.cognitoforms.com/HeartlandArtists1/PieceOfCakeTicketRegistration2026</a></p>

<p data-end="1264" data-start="1209">We can&rsquo;t wait to share this sweet celebration with you!</p>

<p data-end="1374" data-start="1266">&mdash;</p>
<br />Location:<br />REES Theatre<br />100 N. Michigan St.<br />Plymouth, IN 46563
PRIORITY:3
TRANSP:TRANSPARENT
BEGIN:VALARM
TRIGGER:-PT5M
ACTION:DISPLAY
DESCRIPTION:Reminder
END:VALARM
END:VEVENT
END:VCALENDAR
