BEGIN:VCALENDAR
VERSION:2.0
CALSCALE:GREGORIAN
METHOD:PUBLISH
PRODID://PLYC//1418510
BEGIN:VEVENT
DTSTAMP:20260424T084235
VTIMEZONE:America/New_York
DTSTART:20260328T230000Z
DTEND:20260329T010000Z
UID:1418510
SUMMARY:The Moon Swings Jazz with Patti Shaffner & The Buddy Pearson Trio
LOCATION:Wild Rose Moon, 115 N Michigan St, Plymouth, IN, 46563
DESCRIPTION:The Moon Swings Jazz with Patti Shaffner & The Buddy Pearson Trio\n\n03/28/26 07:00 PM EST\n - 03/28/26 09:00 PM EST\Description:\nJAZZ VOCALIST PATTI SHAFFNER TO PERFORM WITH THE BUDDY PEARSON TRIO\nIndiana Singer Featured in Plymouth's Wild Rose Moon Radio Hour\nIndiana-based jazz vocalist Patti Shaffner is set to take the stage as a featured performer on the Wild Rose Moon Radio Hour, a beloved radio program held in Plymouth, Indiana. Performing alongside the acclaimed Buddy Pearson Trio, Shaffner will bring her signature jazz stylings to one of the region's most celebrated musical showcases.\nPatti Shaffner, a crowd favorite at Merriman’s Playhouse in South Bend, is a dynamic presence on the Indiana jazz scene, known for her warm tone, expressive phrasing, and deep reverence for the jazz vocal tradition. Whether interpreting classic American standards or breathing new life into beloved jazz repertoire, Shaffner's performances consistently captivate audiences with their intimacy and authenticity.\nJoining Shaffner is the Buddy Pearson Trio, a cornerstone of the Indiana jazz community. Their seamless musicianship and intuitive accompaniment provide the perfect backdrop for an unforgettable evening of live jazz. Buddy has performed as a solo opening act for music legends such as Robert Cray, Wayne Newton, and Gladys Knight. The trio also features Mike Shell on Drums and Stephan Hess on piano.\nThe Wild Rose Moon Radio Hour is a cherished cultural institution in Marshall County, bringing live music and entertainment to audiences in Plymouth and the surrounding region. The program has long served as a platform for local and regional talent, celebrating Indiana's rich musical heritage.\n“We are thrilled to welcome Patti Shaffner and the Buddy Pearson Trio to the Wild Rose Moon Radio Hour stage,” said George Schricker, executive producer of the show.  “Patti’s voice is something truly special, and we know our audience is going to love every moment of this performance.”\nPatti and the Buddy Pearson Trio are performing on Saturday, March 28th, from 7-9 p.m. at the Wild Rose Moon Performing Arts Center, located in Historic Downtown Plymouth, Indiana. Tickets are available at wildrosemoon.com or may be purchased locally at A.S.K. for Flowers. Seating is limited. The program is recorded live and then broadcast on PBS Michiana and WVPE Public Radio.\n \Details:\nTickets are $25.00 each.  Limited seating, and may be purchased at A.S.K. for Flowers downtown Plymouth. Wild Rose Moon, or eventbrite.\n\nDoors open at 6:30pm\Location:\nWild Rose Moon\n115 N Michigan St\nPlymouth, IN 46563
X-ALT-DESC;FMTTYPE=text/html:The Moon Swings Jazz with Patti Shaffner & The Buddy Pearson Trio<br /><br />03/28/26 07:00 PM EST - 03/28/26 09:00 PM EST<br />Description:<br /><strong>JAZZ VOCALIST PATTI SHAFFNER TO PERFORM WITH THE BUDDY PEARSON TRIO</strong><br />
<em>Indiana Singer Featured in Plymouth's Wild Rose Moon Radio Hour</em><br />
Indiana-based jazz vocalist Patti Shaffner is set to take the stage as a featured performer on the Wild Rose Moon Radio Hour, a beloved radio program held in Plymouth, Indiana. Performing alongside the acclaimed Buddy Pearson Trio, Shaffner will bring her signature jazz stylings to one of the region's most celebrated musical showcases.<br />
Patti Shaffner, a crowd favorite at Merriman&rsquo;s Playhouse in South Bend, is a dynamic presence on the Indiana jazz scene, known for her warm tone, expressive phrasing, and deep reverence for the jazz vocal tradition. Whether interpreting classic American standards or breathing new life into beloved jazz repertoire, Shaffner's performances consistently captivate audiences with their intimacy and authenticity.<br />
Joining Shaffner is the Buddy Pearson Trio, a cornerstone of the Indiana jazz community. Their seamless musicianship and intuitive accompaniment provide the perfect backdrop for an unforgettable evening of live jazz. Buddy has performed as a solo opening act for&nbsp;music legends such as&nbsp;Robert Cray,&nbsp;Wayne Newton, and Gladys Knight. The trio also features Mike Shell on Drums and Stephan Hess on piano.<br />
The Wild Rose Moon Radio Hour is a cherished cultural institution in Marshall County, bringing live music and entertainment to audiences in Plymouth and the surrounding region. The program has long served as a platform for local and regional talent, celebrating Indiana's rich musical heritage.<br />
<em>&ldquo;We are thrilled to welcome Patti Shaffner and the Buddy Pearson Trio to the Wild Rose Moon Radio Hour stage,&rdquo; said George Schricker, executive producer of the show. &nbsp;&ldquo;Patti&rsquo;s voice is something truly special, and we know our audience is going to love every moment of this performance.&rdquo;</em><br />
Patti and the Buddy Pearson Trio are performing on Saturday, March 28<sup>th</sup>, from 7-9 p.m. at the Wild Rose Moon Performing Arts Center, located in Historic Downtown Plymouth, Indiana. Tickets are available at wildrosemoon.com or may be purchased locally at A.S.K. for Flowers. Seating is limited. The program is recorded live and then broadcast on PBS Michiana and WVPE Public Radio.<br />
&nbsp;<br />Details:<br />Tickets are $25.00 each.&nbsp; Limited seating, and may be purchased at A.S.K. for Flowers downtown Plymouth. Wild Rose Moon, or eventbrite.<br />
<br />
Doors open at 6:30pm<br />Location:<br />Wild Rose Moon<br />115 N Michigan St<br />Plymouth, IN 46563
PRIORITY:3
TRANSP:TRANSPARENT
BEGIN:VALARM
TRIGGER:-PT5M
ACTION:DISPLAY
DESCRIPTION:Reminder
END:VALARM
END:VEVENT
END:VCALENDAR
