BEGIN:VCALENDAR
VERSION:2.0
CALSCALE:GREGORIAN
METHOD:PUBLISH
PRODID://WEHO//1418726
BEGIN:VEVENT
DTSTAMP:20260424T085848
VTIMEZONE:America/Los_Angeles
DTSTART:20260316T203000Z
DTEND:20260316T220000Z
UID:1418726
SUMMARY:Sunset Strip BID Board Meeting
LOCATION:, CA
DESCRIPTION:Sunset Strip BID Board Meeting\n\n03/16/26 01:30 PM PST\n - 03/16/26 03:00 PM PST
X-ALT-DESC;FMTTYPE=text/html:Sunset Strip BID Board Meeting<br /><br />03/16/26 01:30 PM PST - 03/16/26 03:00 PM PST
PRIORITY:3
TRANSP:TRANSPARENT
BEGIN:VALARM
TRIGGER:-PT5M
ACTION:DISPLAY
DESCRIPTION:Reminder
END:VALARM
END:VEVENT
END:VCALENDAR
