BEGIN:VCALENDAR
VERSION:2.0
CALSCALE:GREGORIAN
METHOD:PUBLISH
PRODID://JCOC//1418743
BEGIN:VEVENT
DTSTAMP:20260424T172628
VTIMEZONE:America/Chicago
DTSTART:20261003T000000Z
DTEND:20261003T020000Z
UID:1418743
SUMMARY:Symphony and Sweets
LOCATION:Jenks Downtown Commons, 220 E A St, Jenks, OK, 74037
DESCRIPTION:Symphony and Sweets\n\n10/02/26 07:00 PM CST\n - 10/02/26 09:00 PM CST\Description:\nSponsored by River Spirit Casino Resort and Jenks Riverwalk\n\nJoin us for a great time at Symphony and Sweets. This evening event will be hosted at the Jenks Downtown Commons on Friday, October 2nd at 7 p.m. \n\nThis year's Symphony & Sweets will feature symphonic music by the Jenks High School Orchestra! Indulge in sweet treats from local vendors while enjoying music under the stars. This family-friendly event, Symphony & Sweets, is free and open to the entire community. Be sure to bring your blankets and lawn chairs for an awesome night out.\n\nClick to View: Weather and Cancellation Policy\nClick to View: Liability Waiver\n\n \n\Location:\nJenks Downtown Commons\n220 E A St\nJenks, OK 74037
X-ALT-DESC;FMTTYPE=text/html:Symphony and Sweets<br /><br />10/02/26 07:00 PM CST - 10/02/26 09:00 PM CST<br />Description:<br /><p><strong>Sponsored by River Spirit Casino Resort and Jenks Riverwalk</strong><br />
<br />
Join us for a great time at Symphony and Sweets. This evening event will be hosted at the Jenks Downtown Commons on Friday, October 2nd&nbsp;at 7 p.m.&nbsp;</p>

<p>This year's Symphony &amp; Sweets will feature symphonic music by the Jenks High School Orchestra! Indulge in sweet treats from local vendors while enjoying music under the stars. This family-friendly event, Symphony &amp; Sweets, is free and open to the entire community. Be sure to bring your blankets and lawn chairs for an awesome night out.<br />
<br />
<strong>Click to View:&nbsp;<a href="https://www.dropbox.com/scl/fi/g1rvpfaurdpxkz2bfmfqa/Jenks-Chamber-of-Commerce-Weather-and-Cancellation-Policy.pdf?rlkey=aui790nq5f37yexdychk7mhw3&amp;st=vcq00763&amp;dl=0">Weather and Cancellation Policy</a></strong><br />
<strong>Click to View:&nbsp;<a href="https://www.dropbox.com/scl/fi/xh0okrwobjv6y4if070ca/jenks-chamber-of-commerce-liability-waiver.pdf?rlkey=wj6uvimc4q2zlk53to4b1rgxe&amp;st=72p7pdtm&amp;dl=0">Liability Waiver</a></strong></p>

<p>&nbsp;</p>
<br />Location:<br />Jenks Downtown Commons<br />220 E A St<br />Jenks, OK 74037
PRIORITY:3
TRANSP:TRANSPARENT
BEGIN:VALARM
TRIGGER:-PT5M
ACTION:DISPLAY
DESCRIPTION:Reminder
END:VALARM
END:VEVENT
END:VCALENDAR
