BEGIN:VCALENDAR
VERSION:2.0
CALSCALE:GREGORIAN
METHOD:PUBLISH
PRODID://JCOC//1418755
BEGIN:VEVENT
DTSTAMP:20260424T160058
VTIMEZONE:America/Chicago
DTSTART:20260916T163000Z
DTEND:20260916T180000Z
UID:1418755
SUMMARY:Member Luncheon: State of the City
LOCATION:The Ranch, 10596 S. Elm Street, Jenks, OK, 74037
DESCRIPTION:Member Luncheon: State of the City\n\n09/16/26 11:30 AM CST\n - 09/16/26 01:00 PM CST\Description:\nSponsored by Oklahoma Central Credit Union, River Spirit Casino Resort, Cyntergy, Brent Hagar State Farm Insurance, Nabholz Construction, Tedford Insurance, Tulsa Tech, and Jenks Riverwalk.\n\nJoin us on Wednesday, September 16 at the Ranch for our State of the City Luncheon. This luncheon is a unique opportunity to hear about the latest developments and future plans for our city. Doors open at 11 a.m. for networking, with the program beginning at 11:30 a.m. Be sure to arrive early to grab lunch and connect with fellow Chamber members.\n\nClick to View: Liability Waiver\n\n \n\Location:\nThe Ranch\n10596 S. Elm Street\nJenks, OK 74037
X-ALT-DESC;FMTTYPE=text/html:Member Luncheon: State of the City<br /><br />09/16/26 11:30 AM CST - 09/16/26 01:00 PM CST<br />Description:<br /><p><strong>Sponsored by Oklahoma Central Credit Union, River Spirit Casino Resort, Cyntergy, Brent Hagar State Farm Insurance, Nabholz Construction, Tedford Insurance, Tulsa Tech, and Jenks Riverwalk.</strong><br />
<br />
Join us on Wednesday, September 16 at the Ranch for our State of the City Luncheon. This luncheon is a unique opportunity to hear about the latest developments and future plans for our city. Doors open at 11 a.m. for networking, with the program beginning at 11:30 a.m. Be sure to arrive early to grab lunch and connect with fellow Chamber members.</p>

<p><strong>Click to View:&nbsp;<a href="https://www.dropbox.com/scl/fi/xh0okrwobjv6y4if070ca/jenks-chamber-of-commerce-liability-waiver.pdf?rlkey=wj6uvimc4q2zlk53to4b1rgxe&amp;st=72p7pdtm&amp;dl=0">Liability Waiver</a></strong></p>

<p>&nbsp;</p>
<br />Location:<br />The Ranch<br />10596 S. Elm Street<br />Jenks, OK 74037
PRIORITY:3
TRANSP:TRANSPARENT
BEGIN:VALARM
TRIGGER:-PT5M
ACTION:DISPLAY
DESCRIPTION:Reminder
END:VALARM
END:VEVENT
END:VCALENDAR
