BEGIN:VCALENDAR
VERSION:2.0
CALSCALE:GREGORIAN
METHOD:PUBLISH
PRODID://JCOC//1418756
BEGIN:VEVENT
DTSTAMP:20260424T110617
VTIMEZONE:America/Chicago
DTSTART:20260401T150000Z
DTEND:20260401T210000Z
UID:1418756
SUMMARY:Women Who Lead Conference: Leading With Laughter
LOCATION:River Spirit Casino Resort, 8330 Riverside Pkwy , Tulsa, OK, 74137
DESCRIPTION:Women Who Lead Conference: Leading With Laughter\n\n04/01/26 10:00 AM CST\n - 04/01/26 04:00 PM CST\Description:\nWomen Who Lead Conference 2026\nPresented by Oklahoma Aquarium\n\nHappy Hour Sponsored by Bank of Oklahoma\nDessert Sponsored by River Spirit Casino Resort\n\nLeadership doesn’t have to be stiff or serious to be effective. In fact, humor is often an underused tool that fuels creativity, strengthens culture, builds resilience, and deepens connection—without sacrificing credibility or impact.\n\nThis year’s conference will feature comedian Chris Munch and an interactive experience centered on shared learning and meaningful conversation. Together, we’ll explore the power of humor, how it strengthens leadership and workplace culture, and the ways different humor styles show up in everyday leadership.\n\nAttendees will walk away with practical ways to use humor intentionally and authentically as a leadership skill—fueling creativity, connection, and confidence at work and in daily life. Because on April Fool’s Day, we’re no fools about leadership!\n\nClick to View: Liability Waiver\n\n \n\Location:\nRiver Spirit Casino Resort\n8330 Riverside Pkwy \nTulsa, OK 74137
X-ALT-DESC;FMTTYPE=text/html:Women Who Lead Conference: Leading With Laughter<br /><br />04/01/26 10:00 AM CST - 04/01/26 04:00 PM CST<br />Description:<br /><p data-end="1387" data-start="1140"><strong>Women Who Lead Conference 2026</strong><br />
<strong>Presented by Oklahoma Aquarium</strong><br />
<br />
<strong>Happy Hour Sponsored by Bank of Oklahoma<br />
Dessert Sponsored by River Spirit Casino Resort</strong></p>

<p data-end="542" data-start="308">Leadership doesn&rsquo;t have to be stiff or serious to be effective. In fact, humor is often an underused tool that fuels creativity, strengthens culture, builds resilience, and deepens connection&mdash;without sacrificing credibility or impact.</p>

<p data-end="958" data-start="544">This year&rsquo;s conference will feature comedian Chris Munch and an interactive experience centered on shared learning and meaningful conversation. Together, we&rsquo;ll explore the power of humor, how it strengthens leadership and workplace culture, and the ways different humor styles show up in everyday leadership.</p>

<p data-end="1387" data-start="1140">Attendees will walk away with practical ways to use humor intentionally and authentically as a leadership skill&mdash;fueling creativity, connection, and confidence at work and in daily life. Because on April Fool&rsquo;s Day, we&rsquo;re no fools about leadership!<br />
<br />
<strong>Click to View:&nbsp;<a href="https://www.dropbox.com/scl/fi/xh0okrwobjv6y4if070ca/jenks-chamber-of-commerce-liability-waiver.pdf?rlkey=wj6uvimc4q2zlk53to4b1rgxe&amp;st=72p7pdtm&amp;dl=0">Liability Waiver</a></strong></p>

<p data-end="1387" data-start="1140">&nbsp;</p>
<br />Location:<br />River Spirit Casino Resort<br />8330 Riverside Pkwy <br />Tulsa, OK 74137
PRIORITY:3
TRANSP:TRANSPARENT
BEGIN:VALARM
TRIGGER:-PT5M
ACTION:DISPLAY
DESCRIPTION:Reminder
END:VALARM
END:VEVENT
END:VCALENDAR
