BEGIN:VCALENDAR
VERSION:2.0
CALSCALE:GREGORIAN
METHOD:PUBLISH
PRODID://JCOC//1418757
BEGIN:VEVENT
DTSTAMP:20260424T172531
VTIMEZONE:America/Chicago
DTSTART:20261120T230000Z
DTEND:20261121T013000Z
UID:1418757
SUMMARY:Lights On! 2026
LOCATION:Main Street Jenks
DESCRIPTION:Lights On! 2026\n\n11/20/26 05:00 PM CST\n - 11/20/26 07:30 PM CST\Description:\nSponsored by Oklahoma Central Credit Union, BancFirst, River Spirit Casino Resort, and Jenks Riverwalk\n\nThe Jenks Chamber of Commerce will host 2026 Lights On! Christmas celebration, located in Downtown Jenks, on Friday, Nov. 20th. This event is free of charge and the public is invited to attend from 5-7:30 p.m.\n\nOn Jenks Main Street, attendees can enjoy attractions including a visit to see Santa Claus, a variety of local vendors, live entertainment provided by the Jenks High School Trojanaires, and other local talent.\n\nNews on 6 Meteorologist Travis Meyer will emcee the evening and will countdown to the ceremonial turning on of the Main Street lights. The countdown for Lights On! will begin shortly after 6 p.m.\n\n____________________________________________________________________________________________________________\n\nCOST: \n\nFood Vendors agree to pay the Jenks Chamber of Commerce a fee of: \n$150 for food vendors\n\nNon-Food Vendors agree to pay the Jenks Chamber of Commerce a fee of: \n$100 for non-member booth rentals\n\nElectricity:\n\nAll vendors must provide their own electricity.  Generators must be at 65 dB or less.  \n\nCancellation Policy:\n\nVendor cancellations will not be refunded.\n\nClick to View: Weather and Cancellation Policy\nClick to View: Liability Waiver\Location:\nMain Street Jenks\n\n,
X-ALT-DESC;FMTTYPE=text/html:Lights On! 2026<br /><br />11/20/26 05:00 PM CST - 11/20/26 07:30 PM CST<br />Description:<br /><strong>Sponsored by Oklahoma Central Credit Union, BancFirst, River Spirit Casino Resort, and Jenks Riverwalk</strong><br />
<br />
The Jenks Chamber of Commerce will host 2026 Lights On! Christmas celebration, located in Downtown Jenks, on Friday, Nov. 20th. This event is free of charge and the public is invited to attend from 5-7:30 p.m.<br />
<br />
On Jenks Main Street, attendees can enjoy attractions including a visit to see Santa Claus, a variety of local vendors, live entertainment provided by the Jenks High School Trojanaires, and other local talent.<br />
<br />
News on 6 Meteorologist Travis Meyer will emcee the evening and will countdown to the ceremonial turning on of the Main Street lights. The countdown for Lights On! will begin shortly after 6 p.m.<br />
<br />
<strong>____________________________________________________________________________________________________________</strong><br />
<br />
<strong>COST:&nbsp;</strong><br />
<br />
Food Vendors agree to pay the Jenks Chamber of Commerce a fee of:&nbsp;<br />
$150 for food vendors<br />
<br />
Non-Food Vendors agree to pay the Jenks Chamber of Commerce a fee of:&nbsp;<br />
$100 for non-member booth rentals<br />
<br />
<strong>Electricity:</strong><br />
<br />
All vendors must provide their own electricity.&nbsp; Generators must be at 65 dB or less.&nbsp;&nbsp;<br />
<br />
<strong>Cancellation Policy:</strong><br />
<br />
Vendor cancellations will not be refunded.<br />
<br />
<strong>Click to View:&nbsp;<a href="https://www.dropbox.com/scl/fi/g1rvpfaurdpxkz2bfmfqa/Jenks-Chamber-of-Commerce-Weather-and-Cancellation-Policy.pdf?rlkey=aui790nq5f37yexdychk7mhw3&amp;st=vcq00763&amp;dl=0">Weather and Cancellation Policy</a></strong><br />
<strong>Click to View:&nbsp;<a href="https://www.dropbox.com/scl/fi/xh0okrwobjv6y4if070ca/jenks-chamber-of-commerce-liability-waiver.pdf?rlkey=wj6uvimc4q2zlk53to4b1rgxe&amp;st=72p7pdtm&amp;dl=0">Liability Waiver</a></strong><br />Location:<br />Main Street Jenks<br /><br />,  
PRIORITY:3
TRANSP:TRANSPARENT
BEGIN:VALARM
TRIGGER:-PT5M
ACTION:DISPLAY
DESCRIPTION:Reminder
END:VALARM
END:VEVENT
END:VCALENDAR
