BEGIN:VCALENDAR
VERSION:2.0
CALSCALE:GREGORIAN
METHOD:PUBLISH
PRODID://CCCC//1419007
BEGIN:VEVENT
DTSTAMP:20260424T084235
VTIMEZONE:America/Los_Angeles
DTSTART:20260529T160000Z
DTEND:20260529T070000Z
UID:1419007
SUMMARY:Colusa County Chamber AgriSphere Golf Classic - May 29
LOCATION:Colusa Golf & Country Club, 2224 Hwy 20, Colusa, CA, 95932
DESCRIPTION:Colusa County Chamber AgriSphere Golf Classic - May 29\n\n05/29/26 09:00 AM PST\n - 05/29/26 07:00 PM PST\Description:\nAgriSphere Golf Classic\nJoin us for a premier day of golf, networking, and community investment at the AgriSphere Golf Classic. This tournament brings together leaders from agriculture, business, and community to support innovation and economic growth in Colusa County.\n\nEnjoy a first-class tournament experience featuring on-course contests, sponsor activations, and post-play awards.\n\nLocation: Colusa Golf & Country Club, 2224 Hwy 20\nDate: May 29\nShotgun Start: 9:00\nLunch/Awards Reception to Follow\n\nWhether you're playing to win or simply to connect, this is a day you won’t want to miss.\n\Location:\nColusa Golf & Country Club\n2224 Hwy 20\nColusa, CA 95932
X-ALT-DESC;FMTTYPE=text/html:Colusa County Chamber AgriSphere Golf Classic - May 29<br /><br />05/29/26 09:00 AM PST - 05/29/26 07:00 PM PST<br />Description:<br /><p data-end="575" data-start="300"><span style="font-size:18px"><strong data-end="327" data-start="300">AgriSphere Golf Classic</strong><br data-end="330" data-start="327" />
Join us for a premier day of golf, networking, and community investment at the AgriSphere Golf Classic. This tournament brings together leaders from agriculture, business, and community to support innovation and economic growth in Colusa County.</span></p>

<p data-end="691" data-start="577"><span style="font-size:18px">Enjoy a first-class tournament experience featuring on-course contests, sponsor activations, and post-play awards.<br />
<br />
Location: Colusa Golf &amp; Country Club, 2224 Hwy 20<br data-end="722" data-start="719" />
Date: May 29<br data-end="740" data-start="737" />
Shotgun Start: 9:00<br data-end="766" data-start="763" />
Lunch/Awards Reception to Follow</span></p>

<p data-end="892" data-start="803"><span style="font-size:18px">Whether you're playing to win or simply to connect, this is a day you won&rsquo;t want to miss.</span></p>
<br />Location:<br />Colusa Golf & Country Club<br />2224 Hwy 20<br />Colusa, CA 95932
PRIORITY:3
TRANSP:TRANSPARENT
BEGIN:VALARM
TRIGGER:-PT5M
ACTION:DISPLAY
DESCRIPTION:Reminder
END:VALARM
END:VEVENT
END:VCALENDAR
