BEGIN:VCALENDAR
VERSION:2.0
CALSCALE:GREGORIAN
METHOD:PUBLISH
PRODID://HAVR//1419111
BEGIN:VEVENT
DTSTAMP:20260420T040304
VTIMEZONE:America/New_York
DTSTART:20260319T210000Z
DTEND:20260319T230000Z
UID:1419111
SUMMARY:HdG Chamber Networking Happy Hour (Sponsored by APGFCU)
LOCATION:Market Street Brewery, 203 Market Street, Havre de Grace, Ma, 21078
DESCRIPTION:HdG Chamber Networking Happy Hour (Sponsored by APGFCU)\n\n03/19/26 05:00 PM EST\n - 03/19/26 07:00 PM EST\Description:\nJoin us for a connection, conversation, and community at the Havre de Grace Chamber of Commerce Happy Hour!\n\nThis relaxed networking event is designed to bring together local business owners, professionals, entrepreneurs, and community leaders in a welcoming, after-hours setting. Whether you’re looking to expand your network, explore collaborations, or simply unwind with fellow members of the business community, this is the perfect opportunity to connect.\n\nEnjoy great conversation and the chance to strengthen relationships that help drive business growth in Havre de Grace and beyond. Bring your business cards, invite a colleague, and come ready to build meaningful connections.\Location:\nMarket Street Brewery\n203 Market Street\nHavre de Grace, Ma 21078
X-ALT-DESC;FMTTYPE=text/html:HdG Chamber Networking Happy Hour (Sponsored by APGFCU)<br /><br />03/19/26 05:00 PM EST - 03/19/26 07:00 PM EST<br />Description:<br />Join us for a connection, conversation, and community at the Havre de Grace Chamber of Commerce Happy Hour!<br />
<br />
This relaxed networking event is designed to bring together local business owners, professionals, entrepreneurs, and community leaders in a welcoming, after-hours setting. Whether you&rsquo;re looking to expand your network, explore collaborations, or simply unwind with fellow members of the business community, this is the perfect opportunity to connect.<br />
<br />
Enjoy great conversation and the chance to strengthen relationships that help drive business growth in Havre de Grace and beyond. Bring your business cards, invite a colleague, and come ready to build meaningful connections.<br />Location:<br />Market Street Brewery<br />203 Market Street<br />Havre de Grace, Ma 21078
PRIORITY:3
TRANSP:TRANSPARENT
BEGIN:VALARM
TRIGGER:-PT5M
ACTION:DISPLAY
DESCRIPTION:Reminder
END:VALARM
END:VEVENT
END:VCALENDAR
