BEGIN:VCALENDAR
VERSION:2.0
CALSCALE:GREGORIAN
METHOD:PUBLISH
PRODID://HAVR//1419114
BEGIN:VEVENT
DTSTAMP:20260422T043244
VTIMEZONE:America/New_York
DTSTART:20260414T150000Z
DTEND:20260414T163000Z
UID:1419114
SUMMARY:Labor & Employment Law Updates: What Employers Need to Know Now
LOCATION:Converge Innovation Center, 1201 Technology Drive, Aberdeen, Ma, 21001
DESCRIPTION:Labor & Employment Law Updates: What Employers Need to Know Now\n\n04/14/26 11:00 AM EST\n - 04/14/26 12:30 PM EST\Description:\nLearn about recent labor and employment law updates and how they may impact your business operations and workforce management.\n\nTopics will include:\n\nâ–º Changes to labor and employment laws affecting employers\n\nâ–º Compliance considerations for wages, hours, and workplace policies\n\nâ–º Best practices to reduce risk and respond to legal changes\n\Location:\nConverge Innovation Center\n1201 Technology Drive\nAberdeen, Ma 21001
X-ALT-DESC;FMTTYPE=text/html:Labor & Employment Law Updates: What Employers Need to Know Now<br /><br />04/14/26 11:00 AM EST - 04/14/26 12:30 PM EST<br />Description:<br /><p>Learn about recent labor and employment law updates and how they may impact your business operations and workforce management.</p>

<p><strong><strong>Topics will include:</strong></strong></p>

<p>â–º Changes to labor and employment laws affecting employers</p>

<p>â–º Compliance considerations for wages, hours, and workplace policies</p>

<p>â–º Best practices to reduce risk and respond to legal changes</p>
<br />Location:<br />Converge Innovation Center<br />1201 Technology Drive<br />Aberdeen, Ma 21001
PRIORITY:3
TRANSP:TRANSPARENT
BEGIN:VALARM
TRIGGER:-PT5M
ACTION:DISPLAY
DESCRIPTION:Reminder
END:VALARM
END:VEVENT
END:VCALENDAR
