BEGIN:VCALENDAR
VERSION:2.0
CALSCALE:GREGORIAN
METHOD:PUBLISH
PRODID://PLYC//1419301
BEGIN:VEVENT
DTSTAMP:20260424T110617
VTIMEZONE:America/New_York
DTSTART:20260725T140000Z
DTEND:20260725T210000Z
UID:1419301
SUMMARY:12th Annual ARTS in the Street Festival
LOCATION:Downtown Plymouth in front of the Heartland Art Center, 214 N. Michigan St., Plymouth, IN, 46563
DESCRIPTION:12th Annual ARTS in the Street Festival\n\n07/25/26 10:00 AM EST\n - 07/25/26 05:00 PM EST\Description:\nArtist & artisan booths, food vendors, art-making activities for all ages, live music and dance performances, a chalk art contest, scavenger hunt and more will make for a fantastic day celebrating the arts in Downtown Plymouth!\Details:\nðŸŒŸ Join Us for the 12th Annual ARTS in the Street Festival! ðŸŒŸ\nðŸ“… Saturday, July 25 · 10am – 5pm\nðŸ“ Downtown Plymouth, Indiana\n\nGet ready for a full day of FREE, family-friendly fun celebrating creativity, community, and small-town charm with big art energy!\n\nðŸŽ¨ What to Expect:\n\n\n	\n	Over 80 art & artisan vendors selling unique creations in all kinds of artistic media\n	\n	\n	Hands-on art activities for all ages\n	\n	\n	Food trucks serving up sweet treats and savory eats\n	\n	\n	Beer & wine garden\n	\n	\n	3rd Annual Chalk Art Contest judged by a professional chalk artist (and yes, he’ll be creating live!)\n	\n	\n	Youth Art Pop-Up Exhibit featuring artists 18 and under\n	\n	\n	Live music and dance performances all day long\n	\n	\n	Street performers like an illusionist, living statue, and balloon artist\n	\n	\n	Face painting, scavenger hunt, live art making, and more!\n	\n	\n	Festival swag and art exhibitions\n	\n\n\nWhether you're coming for the food, the fun, the art, or just the vibe—there’s something here for everyone. This is a day where the streets come alive with color, creativity, and community.\n\nðŸŽ‰ Small Town. Big Art. Don’t miss it!\n\Location:\nDowntown Plymouth in front of the Heartland Art Center\n214 N. Michigan St.\nPlymouth, IN 46563
X-ALT-DESC;FMTTYPE=text/html:12th Annual ARTS in the Street Festival<br /><br />07/25/26 10:00 AM EST - 07/25/26 05:00 PM EST<br />Description:<br />Artist &amp; artisan booths, food vendors, art-making activities for all ages, live music and dance performances, a chalk art contest, scavenger hunt and more will make for a fantastic day celebrating the arts in Downtown Plymouth!<br />Details:<br /><p data-end="308" data-start="166">ðŸŒŸ <strong data-end="229" data-start="169">Join Us for the 12th Annual ARTS in the Street Festival!</strong> ðŸŒŸ<br data-end="235" data-start="232" />
ðŸ“… <strong data-end="272" data-start="238">Saturday, July 25&nbsp;&middot; 10am &ndash; 5pm</strong><br data-end="275" data-start="272" />
ðŸ“ <strong data-end="308" data-start="278">Downtown Plymouth, Indiana</strong></p>

<p data-end="444" data-start="310">Get ready for a full day of <strong data-end="367" data-start="338">FREE, family-friendly fun</strong> celebrating creativity, community, and small-town charm with big art energy!</p>

<p data-end="468" data-start="446">ðŸŽ¨ <strong data-end="468" data-start="449">What to Expect:</strong></p>

<ul data-end="1169" data-start="469">
	<li data-end="562" data-section-id="1a500li" data-start="469">
	<p data-end="562" data-start="471">Over <strong data-end="504" data-start="476">80 art &amp; artisan vendors</strong> selling unique creations in all kinds of artistic media</p>
	</li>
	<li data-end="607" data-section-id="yaa6s2" data-start="563">
	<p data-end="607" data-start="565"><strong data-end="592" data-start="565">Hands-on art activities</strong> for all ages</p>
	</li>
	<li data-end="667" data-section-id="1icrio8" data-start="608">
	<p data-end="667" data-start="610"><strong data-end="625" data-start="610">Food trucks</strong> serving up sweet treats and savory eats</p>
	</li>
	<li data-end="694" data-section-id="ccuysw" data-start="668">
	<p data-end="694" data-start="670"><strong data-end="692" data-start="670">Beer &amp; wine garden</strong></p>
	</li>
	<li data-end="804" data-section-id="1nrbram" data-start="695">
	<p data-end="804" data-start="697"><strong data-end="729" data-start="697">3rd Annual Chalk Art Contest</strong> judged by a professional chalk artist (and yes, he&rsquo;ll be creating live!)</p>
	</li>
	<li data-end="868" data-section-id="1xtbjv9" data-start="805">
	<p data-end="868" data-start="807"><strong data-end="835" data-start="807">Youth Art Pop-Up Exhibit</strong> featuring artists 18 and under</p>
	</li>
	<li data-end="923" data-section-id="kq7mrp" data-start="869">
	<p data-end="923" data-start="871"><strong data-end="908" data-start="871">Live music and dance performances</strong> all day long</p>
	</li>
	<li data-end="1004" data-section-id="1t5bakv" data-start="924">
	<p data-end="1004" data-start="926"><strong data-end="947" data-start="926">Street performers</strong> like an illusionist, living statue, and balloon artist</p>
	</li>
	<li data-end="1097" data-section-id="c1w6on" data-start="1005">
	<p data-end="1097" data-start="1007"><strong data-end="1060" data-start="1007">Face painting, scavenger hunt, live art making</strong>, and more!</p>
	</li>
	<li data-end="1169" data-section-id="28kjpn" data-start="1098">
	<p data-end="1169" data-start="1100"><strong data-end="1117" data-start="1100">Festival swag</strong> and art exhibitions</p>
	</li>
</ul>

<p data-end="1368" data-start="1171">Whether you're coming for the food, the fun, the art, or just the vibe&mdash;<strong data-end="1281" data-start="1242">there&rsquo;s something here for everyone</strong>. This is a day where the streets come alive with <strong data-end="1367" data-start="1331">color, creativity, and community</strong>.</p>

<p data-end="1412" data-start="1370">ðŸŽ‰ <strong data-end="1412" data-start="1373">Small Town. Big Art. Don&rsquo;t miss it!</strong></p>
<br />Location:<br />Downtown Plymouth in front of the Heartland Art Center<br />214 N. Michigan St.<br />Plymouth, IN 46563
PRIORITY:3
TRANSP:TRANSPARENT
BEGIN:VALARM
TRIGGER:-PT5M
ACTION:DISPLAY
DESCRIPTION:Reminder
END:VALARM
END:VEVENT
END:VCALENDAR
