BEGIN:VCALENDAR
VERSION:2.0
CALSCALE:GREGORIAN
METHOD:PUBLISH
PRODID://PLYC//1419302
BEGIN:VEVENT
DTSTAMP:20260424T084235
VTIMEZONE:America/New_York
DTSTART:20260326T190000Z
DTEND:20260326T230000Z
UID:1419302
SUMMARY:IV Theraphy and Wellness Injections
LOCATION:101 N. Michigan Street, Plymouth, IN, 46563
DESCRIPTION:IV Theraphy and Wellness Injections\n\n03/26/26 03:00 PM EST\n - 03/26/26 07:00 PM EST\Description:\nAt Essential Wellness Solutions we will be hosting Drip Mobile IV for monthly IV Therapy and Wellness Injections.  Our first day is set for March 26th, 3pm-7pm.  This service will be monthly on the 4th Thursday of each month.   For a Full list of services check HERE\Details:\nAt Essential Wellness Solutions we will be hosting Drip Mobile IV for monthly IV Therapy and Wellness Injections.  Our first day is set for March 26th, 3pm-7pm.  This service will be monthly on the 4th Thursday of each month.   For a Full list of services check HERE\Location:\n101 N. Michigan Street\n\nPlymouth, IN 46563
X-ALT-DESC;FMTTYPE=text/html:IV Theraphy and Wellness Injections<br /><br />03/26/26 03:00 PM EST - 03/26/26 07:00 PM EST<br />Description:<br />At Essential Wellness Solutions we will be hosting Drip Mobile IV for monthly IV Therapy and Wellness Injections.&nbsp; Our first day is set for March 26th, 3pm-7pm.&nbsp; This service will be monthly on the 4th Thursday of each month.&nbsp; &nbsp;For a Full list of services check&nbsp;<a href="https://myessentialwellnesssolutions.square.site/iv-therapy" target="_blank">HERE</a><br />Details:<br />At Essential Wellness Solutions we will be hosting Drip Mobile IV for monthly IV Therapy and Wellness Injections.&nbsp; Our first day is set for March 26th, 3pm-7pm.&nbsp; This service will be monthly on the 4th Thursday of each month.&nbsp; &nbsp;For a Full list of services check&nbsp;<a href="https://myessentialwellnesssolutions.square.site/iv-therapy" target="_blank">HERE</a><br />Location:<br />101 N. Michigan Street<br /><br />Plymouth, IN 46563
PRIORITY:3
TRANSP:TRANSPARENT
BEGIN:VALARM
TRIGGER:-PT5M
ACTION:DISPLAY
DESCRIPTION:Reminder
END:VALARM
END:VEVENT
END:VCALENDAR
