BEGIN:VCALENDAR
VERSION:2.0
CALSCALE:GREGORIAN
METHOD:PUBLISH
PRODID://JCOC//1419355
BEGIN:VEVENT
DTSTAMP:20260424T111057
VTIMEZONE:America/Chicago
DTSTART:20260328T180000Z
DTEND:20260328T200000Z
UID:1419355
SUMMARY:Spring Fling with Strawberry Shortcake
LOCATION:Tulsa Premium Outlets, 801 E Outlet Dr, Jenks, OK, 74037
DESCRIPTION:Spring Fling with Strawberry Shortcake\n\n03/28/26 01:00 PM CST\n - 03/28/26 03:00 PM CST\Description:\nSpring Fling\nSaturday, March 28th\n1-3PM\nTulsa Premium Outlets - Center Court\n\nBring your besties to celebrate the Berry Best Shopping Day with special guest and Tulsa local Muriel Fahrion - the original creator of Strawberry Shortcake! Enjoy free sips and sweet treats, photo ops with Muriel and characters, music, friendship bracelets, and custom artwork for the first 300 people to check in. \Details:\nThis event is free to the public. \Location:\nTulsa Premium Outlets\n801 E Outlet Dr\nJenks, OK 74037
X-ALT-DESC;FMTTYPE=text/html:Spring Fling with Strawberry Shortcake<br /><br />03/28/26 01:00 PM CST - 03/28/26 03:00 PM CST<br />Description:<br />Spring Fling<br />
Saturday, March 28th<br />
1-3PM<br />
Tulsa Premium Outlets - Center Court<br />
<br />
Bring your besties to celebrate the Berry Best Shopping Day with special guest and Tulsa local Muriel Fahrion - the original creator of Strawberry Shortcake! Enjoy free sips and sweet treats, photo ops with Muriel and characters, music, friendship bracelets, and custom artwork for the first 300 people to check in.&nbsp;<br />Details:<br />This event is free to the public.&nbsp;<br />Location:<br />Tulsa Premium Outlets<br />801 E Outlet Dr<br />Jenks, OK 74037
PRIORITY:3
TRANSP:TRANSPARENT
BEGIN:VALARM
TRIGGER:-PT5M
ACTION:DISPLAY
DESCRIPTION:Reminder
END:VALARM
END:VEVENT
END:VCALENDAR
