BEGIN:VCALENDAR
VERSION:2.0
CALSCALE:GREGORIAN
METHOD:PUBLISH
PRODID://JCOC//1419567
BEGIN:VEVENT
DTSTAMP:20260424T110232
VTIMEZONE:America/Chicago
DTSTART:20260328T160000Z
DTEND:20260328T170000Z
UID:1419567
SUMMARY:Jenks Planetarium: Animals of the Sky
LOCATION:
DESCRIPTION:Jenks Planetarium: Animals of the Sky\n\n03/28/26 11:00 AM CST\n - 03/28/26 12:00 PM CST\Description:\nA young girl, Delphina, finds herself in an unfortunate incident and gets helps from the unexpected Animals of the Sky. Come experience her story and discover how the stars can be connected to create real life animals! The target audience for Animals of the Sky is ages 4 and up.\n\nThis show is held at the Jenks Planetarium, Jenks High School, Dr. Kirby A. Lehman Center for the Study of Math and Science Center, 3rd Floor. Elevator available. Doors to the Planetarium open approximately 30 minutes prior to listed show time. Tickets will not be issued at time of purchase. You do not need to show proof of purchase. Your name will appear on a list at the door and checked off upon entry to the show. No food or drink is allowed in the Planetarium.\n\nGeneral Seating. 1 show.\n\nInformation and Tickets: https://jenksps.ce.eleyo.com/course/2199/spring-2026/animals-of-the-sky#26sppl14\n
X-ALT-DESC;FMTTYPE=text/html:Jenks Planetarium: Animals of the Sky<br /><br />03/28/26 11:00 AM CST - 03/28/26 12:00 PM CST<br />Description:<br /><p>A young girl, Delphina, finds herself in an unfortunate incident and gets helps from the unexpected Animals of the Sky. Come experience her story and discover how the stars can be connected to create real life animals!&nbsp;<strong>The target audience for Animals of the Sky is ages 4 and up.</strong></p>

<p>This show is held at the Jenks Planetarium, Jenks High School, Dr. Kirby A. Lehman Center for the Study of Math and Science Center, 3rd Floor. Elevator available. Doors to the Planetarium open approximately 30 minutes prior to listed show time. Tickets will not be issued at time of purchase. You do not need to show proof of purchase. Your name will appear on a list at the door and checked off upon entry to the show. No food or drink is allowed in the Planetarium.</p>

<p>General Seating. 1 show.<br />
<br />
Information and Tickets:&nbsp;<a href="https://jenksps.ce.eleyo.com/course/2199/spring-2026/animals-of-the-sky#26sppl14">https://jenksps.ce.eleyo.com/course/2199/spring-2026/animals-of-the-sky#26sppl14</a></p>

PRIORITY:3
TRANSP:TRANSPARENT
BEGIN:VALARM
TRIGGER:-PT5M
ACTION:DISPLAY
DESCRIPTION:Reminder
END:VALARM
END:VEVENT
END:VCALENDAR
