BEGIN:VCALENDAR
VERSION:2.0
CALSCALE:GREGORIAN
METHOD:PUBLISH
PRODID://JCOC//1419570
BEGIN:VEVENT
DTSTAMP:20260424T110232
VTIMEZONE:America/Chicago
DTSTART:20260324T233000Z
DTEND:20260325T003000Z
UID:1419570
SUMMARY:Jenks Planetarium: Spark the Universe in Us
LOCATION:
DESCRIPTION:Jenks Planetarium: Spark the Universe in Us\n\n03/24/26 06:30 PM CST\n - 03/24/26 07:30 PM CST\Description:\nJourney across space and time to witness the origin of the lifegiving elements that make up our solar system, Earth—and us! The target audience for Spark is ages 14 and up.\n\nThis show is held at the Jenks Planetarium, Jenks High School, Dr. Kirby A. Lehman Center for the Study of Math and Science Center, 3rd Floor. Elevator available. Doors to the Planetarium open approximately 30 minutes prior to listed show time. Tickets will not be issued at time of purchase. You do not need to show proof of purchase. Your name will appear on a list at the door and checked off upon entry to the show. No food or drink is allowed in the Planetarium.\n\nGeneral Seating. 1 show.\n\nInformation and Tickets: https://jenksps.ce.eleyo.com/course/2204/spring-2026/spark-the-universe-in-us#26sppl13\n
X-ALT-DESC;FMTTYPE=text/html:Jenks Planetarium: Spark the Universe in Us<br /><br />03/24/26 06:30 PM CST - 03/24/26 07:30 PM CST<br />Description:<br /><p>Journey across space and time to witness the origin of the lifegiving elements that make up our solar system, Earth&mdash;and us!&nbsp;<strong>The target audience for Spark is ages 14 and up.</strong></p>

<p>This show is held at the Jenks Planetarium, Jenks High School, Dr. Kirby A. Lehman Center for the Study of Math and Science Center, 3rd Floor. Elevator available. Doors to the Planetarium open approximately 30 minutes prior to listed show time. Tickets will not be issued at time of purchase. You do not need to show proof of purchase. Your name will appear on a list at the door and checked off upon entry to the show. No food or drink is allowed in the Planetarium.</p>

<p>General Seating. 1 show.<br />
<br />
Information and Tickets:&nbsp;<a href="https://jenksps.ce.eleyo.com/course/2204/spring-2026/spark-the-universe-in-us#26sppl13">https://jenksps.ce.eleyo.com/course/2204/spring-2026/spark-the-universe-in-us#26sppl13</a></p>

PRIORITY:3
TRANSP:TRANSPARENT
BEGIN:VALARM
TRIGGER:-PT5M
ACTION:DISPLAY
DESCRIPTION:Reminder
END:VALARM
END:VEVENT
END:VCALENDAR
