BEGIN:VCALENDAR
VERSION:2.0
CALSCALE:GREGORIAN
METHOD:PUBLISH
PRODID://JCOC//1419572
BEGIN:VEVENT
DTSTAMP:20260424T110155
VTIMEZONE:America/Chicago
DTSTART:20260329T013000Z
DTEND:20260329T023000Z
UID:1419572
SUMMARY:Jenks Planetarium: The Northern Sky
LOCATION:
DESCRIPTION:Jenks Planetarium: The Northern Sky\n\n03/28/26 08:30 PM CST\n - 03/28/26 09:30 PM CST\Description:\nThe Northern Sky is the most observed by sky gazers because it is up every season of the year. Learn how to find the North Star. Learn how to use the North Star to determine your location on Earth. Learn why the North Star and all other northern constellations are Circumpolar. The target audience for The Northern Sky is ages 8 and up.\n\nThis show is held at the Jenks Planetarium, Jenks High School, Dr. Kirby A. Lehman Center for the Study of Math and Science Center, 3rd Floor. Elevator available. Doors to the Planetarium open approximately 30 minutes prior to listed show time. Tickets will not be issued at time of purchase. You do not need to show proof of purchase. Your name will appear on a list at the door and checked off upon entry to the show. No food or drink is allowed in the Planetarium.\n\nGeneral Seating. 1 show\n\nInformation and tickets: https://jenksps.ce.eleyo.com/course/2319/spring-2026/the-northern-sky#26sppl15\n \n
X-ALT-DESC;FMTTYPE=text/html:Jenks Planetarium: The Northern Sky<br /><br />03/28/26 08:30 PM CST - 03/28/26 09:30 PM CST<br />Description:<br /><p>The Northern Sky is the most observed by sky gazers because it is up every season of the year. Learn how to find the North Star. Learn how to use the North Star to determine your location on Earth. Learn why the North Star and all other northern constellations are Circumpolar.&nbsp;<strong>The target audience for The Northern Sky is ages 8 and up.</strong></p>

<p>This show is held at the Jenks Planetarium, Jenks High School, Dr. Kirby A. Lehman Center for the Study of Math and Science Center, 3rd Floor. Elevator available. Doors to the Planetarium open approximately 30 minutes prior to listed show time. Tickets will not be issued at time of purchase. You do not need to show proof of purchase. Your name will appear on a list at the door and checked off upon entry to the show. No food or drink is allowed in the Planetarium.</p>

<p>General Seating. 1 show<br />
<br />
Information and tickets: <a href="https://jenksps.ce.eleyo.com/course/2319/spring-2026/the-northern-sky#26sppl15">https://jenksps.ce.eleyo.com/course/2319/spring-2026/the-northern-sky#26sppl15</a><br />
&nbsp;</p>

PRIORITY:3
TRANSP:TRANSPARENT
BEGIN:VALARM
TRIGGER:-PT5M
ACTION:DISPLAY
DESCRIPTION:Reminder
END:VALARM
END:VEVENT
END:VCALENDAR
