BEGIN:VCALENDAR
VERSION:2.0
CALSCALE:GREGORIAN
METHOD:PUBLISH
PRODID://JCOC//1419580
BEGIN:VEVENT
DTSTAMP:20260424T110155
VTIMEZONE:America/Chicago
DTSTART:20260331T233000Z
DTEND:20260401T003000Z
UID:1419580
SUMMARY:Jenks Planetarium: Tulsa Takes Flight
LOCATION:
DESCRIPTION:Jenks Planetarium: Tulsa Takes Flight\n\n03/31/26 06:30 PM CST\n - 03/31/26 07:30 PM CST\Description:\nThrough the eras of Hot Air Balloons, Planes, Jets and Spacecraft, Tulsa has had its hand in shaping the aerospace industry. In conjunction with the Tulsa Historical Society and Museum and Tulsa Air and Space Museum, Tulsa Takes Flight journeys through the history of the Aerospace industry in Tulsa. See where it started. See where it is today. See how Tulsa still has its hands…on the future! The target audience for Tulsa Takes Flight is ages 10 and up.\n\nThis show is held at the Jenks Planetarium, Jenks High School, Dr. Kirby A. Lehman Center for the Study of Math and Science Center, 3rd Floor. Elevator available. Doors to the Planetarium open approximately 30 minutes prior to listed show time. Tickets will not be issued at time of purchase. You do not need to show proof of purchase. Your name will appear on a list at the door and checked off upon entry to the show. No food or drink is allowed in the Planetarium.\n\nGeneral Seating. 1 show\n\nInformation and tickets: https://jenksps.ce.eleyo.com/course/2207/spring-2026/tulsa-takes-flight#26sppl16\n \n
X-ALT-DESC;FMTTYPE=text/html:Jenks Planetarium: Tulsa Takes Flight<br /><br />03/31/26 06:30 PM CST - 03/31/26 07:30 PM CST<br />Description:<br /><p>Through the eras of Hot Air Balloons, Planes, Jets and Spacecraft, Tulsa has had its hand in shaping the aerospace industry. In conjunction with the Tulsa Historical Society and Museum and Tulsa Air and Space Museum, Tulsa Takes Flight journeys through the history of the Aerospace industry in Tulsa. See where it started. See where it is today. See how Tulsa still has its hands&hellip;on the future!&nbsp;<strong>The target audience for Tulsa Takes Flight is ages 10 and up.</strong></p>

<p>This show is held at the Jenks Planetarium, Jenks High School, Dr. Kirby A. Lehman Center for the Study of Math and Science Center, 3rd Floor. Elevator available. Doors to the Planetarium open approximately 30 minutes prior to listed show time. Tickets will not be issued at time of purchase. You do not need to show proof of purchase. Your name will appear on a list at the door and checked off upon entry to the show. No food or drink is allowed in the Planetarium.</p>

<p>General Seating. 1 show<br />
<br />
Information and tickets: <a href="https://jenksps.ce.eleyo.com/course/2207/spring-2026/tulsa-takes-flight#26sppl16">https://jenksps.ce.eleyo.com/course/2207/spring-2026/tulsa-takes-flight#26sppl16</a><br />
&nbsp;</p>

PRIORITY:3
TRANSP:TRANSPARENT
BEGIN:VALARM
TRIGGER:-PT5M
ACTION:DISPLAY
DESCRIPTION:Reminder
END:VALARM
END:VEVENT
END:VCALENDAR
