BEGIN:VCALENDAR
VERSION:2.0
CALSCALE:GREGORIAN
METHOD:PUBLISH
PRODID://JCOC//1419587
BEGIN:VEVENT
DTSTAMP:20260424T110155
VTIMEZONE:America/Chicago
DTSTART:20260407T233000Z
DTEND:20260408T003000Z
UID:1419587
SUMMARY:Jenks Planetarium: Expedition Reef
LOCATION:
DESCRIPTION:Jenks Planetarium: Expedition Reef\n\n04/07/26 06:30 PM CST\n - 04/07/26 07:30 PM CST\Description:\nLearn the secrets of the “rainforests of the sea” as you embark on an oceanic safari of the world’s most vibrant—and endangered—marine ecosystems. The target audience for Expedition Reef is ages 8 and up.\n\nThis show is held at the Jenks Planetarium, Jenks High School, Dr. Kirby A. Lehman Center for the Study of Math and Science Center, 3rd Floor. Elevator available. Doors to the Planetarium open approximately 30 minutes prior to listed show time. Tickets will not be issued at time of purchase. You do not need to show proof of purchase. Your name will appear on a list at the door and checked off upon entry to the show. No food or drink is allowed in the Planetarium.\n\nGeneral Seating. 1 show\n\nInformation and tickets: https://jenksps.ce.eleyo.com/course/2209/spring-2026/expedition-reef#26sppl17\n \n
X-ALT-DESC;FMTTYPE=text/html:Jenks Planetarium: Expedition Reef<br /><br />04/07/26 06:30 PM CST - 04/07/26 07:30 PM CST<br />Description:<br /><p>Learn the secrets of the &ldquo;rainforests of the sea&rdquo; as you embark on an oceanic safari of the world&rsquo;s most vibrant&mdash;and endangered&mdash;marine ecosystems.&nbsp;<strong>The target audience for Expedition Reef is ages 8 and up.</strong></p>

<p>This show is held at the Jenks Planetarium, Jenks High School, Dr. Kirby A. Lehman Center for the Study of Math and Science Center, 3rd Floor. Elevator available. Doors to the Planetarium open approximately 30 minutes prior to listed show time. Tickets will not be issued at time of purchase. You do not need to show proof of purchase. Your name will appear on a list at the door and checked off upon entry to the show. No food or drink is allowed in the Planetarium.</p>

<p>General Seating. 1 show<br />
<br />
Information and tickets: <a href="https://jenksps.ce.eleyo.com/course/2209/spring-2026/expedition-reef#26sppl17">https://jenksps.ce.eleyo.com/course/2209/spring-2026/expedition-reef#26sppl17</a><br />
&nbsp;</p>

PRIORITY:3
TRANSP:TRANSPARENT
BEGIN:VALARM
TRIGGER:-PT5M
ACTION:DISPLAY
DESCRIPTION:Reminder
END:VALARM
END:VEVENT
END:VCALENDAR
