BEGIN:VCALENDAR
VERSION:2.0
CALSCALE:GREGORIAN
METHOD:PUBLISH
PRODID://JCOC//1419593
BEGIN:VEVENT
DTSTAMP:20260424T110155
VTIMEZONE:America/Chicago
DTSTART:20260421T233000Z
DTEND:20260422T003000Z
UID:1419593
SUMMARY:Jenks Planetarium: Undiscovered Worlds
LOCATION:
DESCRIPTION:Jenks Planetarium: Undiscovered Worlds\n\n04/21/26 06:30 PM CST\n - 04/21/26 07:30 PM CST\Description:\nUndiscovered Worlds explores a timeless question: Do other planets like Earth exist? Travel to distant stars and fly up close to exotic planets. Experience the science shifting our perspective on humanity's place in the cosmos. The target audience age for Undiscovered Worlds: The Search Beyond Our Sun is 10 years to adult. \n\nThis show is held at the Jenks Planetarium, Jenks High School, Dr. Kirby A. Lehman Center for the Study of Math and Science Center, 3rd Floor. Elevator available. Doors to the Planetarium open approximately 30 minutes prior to listed show time. Tickets will not be issued at time of purchase. You do not need to show proof of purchase. Your name will appear on a list at the door and checked off upon entry to the show. No food or drink is allowed in the Planetarium.\n\nGeneral Seating. 1 show\n\nInformation and tickets: https://jenksps.ce.eleyo.com/course/2208/spring-2026/undiscovered-worlds-the-search-beyond-our-sun#26sppl19\n \n
X-ALT-DESC;FMTTYPE=text/html:Jenks Planetarium: Undiscovered Worlds<br /><br />04/21/26 06:30 PM CST - 04/21/26 07:30 PM CST<br />Description:<br /><p>Undiscovered Worlds explores a timeless question: Do other planets like Earth exist? Travel to distant stars and fly up close to exotic planets. Experience the science shifting our perspective on humanity's place in the cosmos.<strong>&nbsp;The target audience age for Undiscovered Worlds: The Search Beyond Our Sun is 10 years to adult.&nbsp;</strong></p>

<p>This show is held at the Jenks Planetarium, Jenks High School, Dr. Kirby A. Lehman Center for the Study of Math and Science Center, 3rd Floor. Elevator available. Doors to the Planetarium open approximately 30 minutes prior to listed show time. Tickets will not be issued at time of purchase. You do not need to show proof of purchase. Your name will appear on a list at the door and checked off upon entry to the show. No food or drink is allowed in the Planetarium.</p>

<p>General Seating. 1 show<br />
<br />
Information and tickets: <a href="https://jenksps.ce.eleyo.com/course/2208/spring-2026/undiscovered-worlds-the-search-beyond-our-sun#26sppl19">https://jenksps.ce.eleyo.com/course/2208/spring-2026/undiscovered-worlds-the-search-beyond-our-sun#26sppl19</a><br />
&nbsp;</p>

PRIORITY:3
TRANSP:TRANSPARENT
BEGIN:VALARM
TRIGGER:-PT5M
ACTION:DISPLAY
DESCRIPTION:Reminder
END:VALARM
END:VEVENT
END:VCALENDAR
