BEGIN:VCALENDAR
VERSION:2.0
CALSCALE:GREGORIAN
METHOD:PUBLISH
PRODID://JCOC//1419595
BEGIN:VEVENT
DTSTAMP:20260424T094656
VTIMEZONE:America/Chicago
DTSTART:20260428T233000Z
DTEND:20260429T003000Z
UID:1419595
SUMMARY:Jenks Planetarium: Compass, Calendar, and Clock
LOCATION:
DESCRIPTION:Jenks Planetarium: Compass, Calendar, and Clock\n\n04/28/26 06:30 PM CST\n - 04/28/26 07:30 PM CST\Description:\nAs our ancients learned, the sky is not just a thing of beauty–it’s the ruler for the position of our planet. Understanding how our planet is aligned with the distant stars allows anyone to use the sky as a compass, a calendar and a clock. Come learn how to use the sky yourself! The target audience for Compass, Calendar, and Clock is ages 8 and up.\n\nThis show is held at the Jenks Planetarium, Jenks High School, Dr. Kirby A. Lehman Center for the Study of Math and Science Center, 3rd Floor. Elevator available. Doors to the Planetarium open approximately 30 minutes prior to listed show time. Tickets will not be issued at time of purchase. You do not need to show proof of purchase. Your name will appear on a list at the door and checked off upon entry to the show. No food or drink is allowed in the Planetarium.\n\nGeneral Seating. 1 show\n\nInformation and tickets: https://jenksps.ce.eleyo.com/course/2216/spring-2026/compass-calendar-and-clock#26sppl22\n \n
X-ALT-DESC;FMTTYPE=text/html:Jenks Planetarium: Compass, Calendar, and Clock<br /><br />04/28/26 06:30 PM CST - 04/28/26 07:30 PM CST<br />Description:<br /><p>As our ancients learned, the sky is not just a thing of beauty&ndash;it&rsquo;s the ruler for the position of our planet. Understanding how our planet&nbsp;is aligned with the distant stars allows anyone to use the sky as a compass, a calendar and a clock. Come learn how to use the sky yourself!&nbsp;<strong>The target audience for Compass, Calendar, and Clock is ages 8 and up.</strong></p>

<p>This show is held at the Jenks Planetarium, Jenks High School, Dr. Kirby A. Lehman Center for the Study of Math and Science Center, 3rd Floor. Elevator available. Doors to the Planetarium open approximately 30 minutes prior to listed show time. Tickets will not be issued at time of purchase. You do not need to show proof of purchase. Your name will appear on a list at the door and checked off upon entry to the show. No food or drink is allowed in the Planetarium.</p>

<p>General Seating. 1 show<br />
<br />
Information and tickets: <a href="https://jenksps.ce.eleyo.com/course/2216/spring-2026/compass-calendar-and-clock#26sppl22">https://jenksps.ce.eleyo.com/course/2216/spring-2026/compass-calendar-and-clock#26sppl22</a><br />
&nbsp;</p>

PRIORITY:3
TRANSP:TRANSPARENT
BEGIN:VALARM
TRIGGER:-PT5M
ACTION:DISPLAY
DESCRIPTION:Reminder
END:VALARM
END:VEVENT
END:VCALENDAR
