BEGIN:VCALENDAR
VERSION:2.0
CALSCALE:GREGORIAN
METHOD:PUBLISH
PRODID://JCOC//1419596
BEGIN:VEVENT
DTSTAMP:20260424T094712
VTIMEZONE:America/Chicago
DTSTART:20260502T160000Z
DTEND:20260502T170000Z
UID:1419596
SUMMARY:Jenks Planetarium: My House Has Stars
LOCATION:
DESCRIPTION:Jenks Planetarium: My House Has Stars\n\n05/02/26 11:00 AM CST\n - 05/02/26 12:00 PM CST\Description:\nPeople all over the world live in many types of houses--from houseboats to mud huts. No matter where you live though, your house has stars! Based on the book, My House Has Stars introduces both houses and stars from places and cultures all over the planet. The target audience for My House Has Stars is ages 6 and up.\n\nThis show is held at the Jenks Planetarium, Jenks High School, Dr. Kirby A. Lehman Center for the Study of Math and Science Center, 3rd Floor. Elevator available. Doors to the Planetarium open approximately 30 minutes prior to listed show time. Tickets will not be issued at time of purchase. You do not need to show proof of purchase. Your name will appear on a list at the door and checked off upon entry to the show. No food or drink is allowed in the Planetarium.\n\nGeneral Seating. 1 show\n\nInformation and tickets: https://jenksps.ce.eleyo.com/course/2201/spring-2026/my-house-has-stars#26sppl20\n \n
X-ALT-DESC;FMTTYPE=text/html:Jenks Planetarium: My House Has Stars<br /><br />05/02/26 11:00 AM CST - 05/02/26 12:00 PM CST<br />Description:<br /><p>People all over the world live in many types of houses--from houseboats to mud huts. No matter where you live though, your house has stars! Based on the book, My House Has Stars introduces both houses and stars from places and cultures all over the planet.&nbsp;<strong>The target audience for My House Has Stars is ages 6 and up.</strong></p>

<p>This show is held at the Jenks Planetarium, Jenks High School, Dr. Kirby A. Lehman Center for the Study of Math and Science Center, 3rd Floor. Elevator available. Doors to the Planetarium open approximately 30 minutes prior to listed show time. Tickets will not be issued at time of purchase. You do not need to show proof of purchase. Your name will appear on a list at the door and checked off upon entry to the show. No food or drink is allowed in the Planetarium.</p>

<p>General Seating. 1 show<br />
<br />
Information and tickets: <a href="https://jenksps.ce.eleyo.com/course/2201/spring-2026/my-house-has-stars#26sppl20">https://jenksps.ce.eleyo.com/course/2201/spring-2026/my-house-has-stars#26sppl20</a><br />
&nbsp;</p>

PRIORITY:3
TRANSP:TRANSPARENT
BEGIN:VALARM
TRIGGER:-PT5M
ACTION:DISPLAY
DESCRIPTION:Reminder
END:VALARM
END:VEVENT
END:VCALENDAR
