BEGIN:VCALENDAR
VERSION:2.0
CALSCALE:GREGORIAN
METHOD:PUBLISH
PRODID://JCOC//1419597
BEGIN:VEVENT
DTSTAMP:20260424T094711
VTIMEZONE:America/Chicago
DTSTART:20260503T013000Z
DTEND:20260503T023000Z
UID:1419597
SUMMARY:Jenks Planetarium: The Spring Sky
LOCATION:
DESCRIPTION:Jenks Planetarium: The Spring Sky\n\n05/02/26 08:30 PM CST\n - 05/02/26 09:30 PM CST\Description:\nWith the arrival of the flowers, the animals awaken both on Earth, and in the night sky; Leo the Lion, Corvus the Crow, Ursa the Bear. The Spring Sky will introduce you to those constellations, and many more, found in the springtime sky. Weather permitting, we will relocate to the roof-top observation deck. Please dress for the weather. The target audience for The Spring Sky is ages 6 and up.\n\nThis show is held at the Jenks Planetarium, Jenks High School, Dr. Kirby A. Lehman Center for the Study of Math and Science Center, 3rd Floor. Elevator available. Doors to the Planetarium open approximately 30 minutes prior to listed show time. Tickets will not be issued at time of purchase. You do not need to show proof of purchase. Your name will appear on a list at the door and checked off upon entry to the show. No food or drink is allowed in the Planetarium.\n\nGeneral Seating. 1 show\n\nInformation and tickets: https://jenksps.ce.eleyo.com/course/2213/spring-2026/the-spring-sky#26sppl21\n \n
X-ALT-DESC;FMTTYPE=text/html:Jenks Planetarium: The Spring Sky<br /><br />05/02/26 08:30 PM CST - 05/02/26 09:30 PM CST<br />Description:<br /><p>With the arrival of the flowers, the animals awaken both on Earth, and in the night sky; Leo the Lion, Corvus the Crow, Ursa the Bear. The Spring Sky will introduce you to those constellations, and many more, found in the springtime sky.&nbsp;Weather permitting, we will relocate to the roof-top observation deck. Please dress for the weather.&nbsp;<strong>The target audience for The Spring Sky is ages 6 and up.</strong></p>

<p>This show is held at the Jenks Planetarium, Jenks High School, Dr. Kirby A. Lehman Center for the Study of Math and Science Center, 3rd Floor. Elevator available. Doors to the Planetarium open approximately 30 minutes prior to listed show time. Tickets will not be issued at time of purchase. You do not need to show proof of purchase. Your name will appear on a list at the door and checked off upon entry to the show. No food or drink is allowed in the Planetarium.</p>

<p>General Seating. 1 show<br />
<br />
Information and tickets: <a href="https://jenksps.ce.eleyo.com/course/2213/spring-2026/the-spring-sky#26sppl21">https://jenksps.ce.eleyo.com/course/2213/spring-2026/the-spring-sky#26sppl21</a><br />
&nbsp;</p>

PRIORITY:3
TRANSP:TRANSPARENT
BEGIN:VALARM
TRIGGER:-PT5M
ACTION:DISPLAY
DESCRIPTION:Reminder
END:VALARM
END:VEVENT
END:VCALENDAR
