BEGIN:VCALENDAR
VERSION:2.0
CALSCALE:GREGORIAN
METHOD:PUBLISH
PRODID://JCOC//1419598
BEGIN:VEVENT
DTSTAMP:20260424T094656
VTIMEZONE:America/Chicago
DTSTART:20260505T233000Z
DTEND:20260506T003000Z
UID:1419598
SUMMARY:Jenks Planetarium: The Sky We Donâ€™t See
LOCATION:
DESCRIPTION:Jenks Planetarium: The Sky We Donâ€™t See\n\n05/05/26 06:30 PM CST\n - 05/05/26 07:30 PM CST\Description:\nThe fact that 88% of the human population lives in the northern hemisphere. This should not overshadow the beautiful sky that is seen in the southern hemisphere. Not only do they see many of the constellations we do… but they see stars, constellations, and deep space objects that can never be seen from the north! Join us as we tour the southern hemisphere sky! The target audience age for The Sky We Don’t See is ages 6 and up.\n\nThis show is held at the Jenks Planetarium, Jenks High School, Dr. Kirby A. Lehman Center for the Study of Math and Science Center, 3rd Floor. Elevator available. Doors to the Planetarium open approximately 30 minutes prior to listed show time. Tickets will not be issued at time of purchase. You do not need to show proof of purchase. Your name will appear on a list at the door and checked off upon entry to the show. No food or drink is allowed in the Planetarium.\n\nGeneral Seating. 1 show\n\nInformation and tickets: https://jenksps.ce.eleyo.com/course/2212/spring-2026/the-sky-we-don-t-see\n \n
X-ALT-DESC;FMTTYPE=text/html:Jenks Planetarium: The Sky We Donâ€™t See<br /><br />05/05/26 06:30 PM CST - 05/05/26 07:30 PM CST<br />Description:<br /><p>The fact that 88% of the human population lives in the northern hemisphere. This should not overshadow the beautiful sky that is seen in the southern hemisphere. Not only do they see many of the constellations we do&hellip; but they see stars, constellations, and deep space objects that can never be seen from the north! Join us as we tour the southern hemisphere sky!&nbsp;<strong>The target audience age for The Sky We Don&rsquo;t See is ages 6 and up.</strong></p>

<p>This show is held at the Jenks Planetarium, Jenks High School, Dr. Kirby A. Lehman Center for the Study of Math and Science Center, 3rd Floor. Elevator available. Doors to the Planetarium open approximately 30 minutes prior to listed show time. Tickets will not be issued at time of purchase. You do not need to show proof of purchase. Your name will appear on a list at the door and checked off upon entry to the show. No food or drink is allowed in the Planetarium.</p>

<p>General Seating. 1 show<br />
<br />
Information and tickets: <a href="https://jenksps.ce.eleyo.com/course/2212/spring-2026/the-sky-we-don-t-see">https://jenksps.ce.eleyo.com/course/2212/spring-2026/the-sky-we-don-t-see</a><br />
&nbsp;</p>

PRIORITY:3
TRANSP:TRANSPARENT
BEGIN:VALARM
TRIGGER:-PT5M
ACTION:DISPLAY
DESCRIPTION:Reminder
END:VALARM
END:VEVENT
END:VCALENDAR
