BEGIN:VCALENDAR
VERSION:2.0
CALSCALE:GREGORIAN
METHOD:PUBLISH
PRODID://GFCC//1419602
BEGIN:VEVENT
DTSTAMP:20260424T082754
VTIMEZONE:America/Chicago
DTSTART:20260327T220000Z
DTEND:20260328T000000Z
UID:1419602
SUMMARY:Vandalia School District Art Show
LOCATION:Vandalia High School, 1109 N 8TH ST, Vandalia, Il, 62471
DESCRIPTION:Vandalia School District Art Show\n\n03/27/26 05:00 PM CST\n - 03/27/26 07:00 PM CST\Description:\nThis is a district-wide art show featuring art from all grade levels, including VES, VJHS, VHS, Okaw Vocational Center, & including art by Vandalia alumni. \Details:\nThis is a free family friendly community event. View art from all grade levels, participate in art activities & crafts, and enjoy refreshments. This event is made possible by our community business sponsors, who help keep it free. \Location:\nVandalia High School\n1109 N 8TH ST\nVandalia, Il 62471
X-ALT-DESC;FMTTYPE=text/html:Vandalia School District Art Show<br /><br />03/27/26 05:00 PM CST - 03/27/26 07:00 PM CST<br />Description:<br />This is a district-wide art show featuring art from all&nbsp;grade levels, including VES, VJHS, VHS, Okaw Vocational Center, &amp; including art by Vandalia alumni.&nbsp;<br />Details:<br />This is a free family friendly community event. View art from all grade levels, participate in art activities &amp; crafts,&nbsp;and enjoy refreshments. This event is made possible by our community business sponsors, who help keep it free.&nbsp;<br />Location:<br />Vandalia High School<br />1109 N 8TH ST<br />Vandalia, Il 62471
PRIORITY:3
TRANSP:TRANSPARENT
BEGIN:VALARM
TRIGGER:-PT5M
ACTION:DISPLAY
DESCRIPTION:Reminder
END:VALARM
END:VEVENT
END:VCALENDAR
