BEGIN:VCALENDAR
VERSION:2.0
CALSCALE:GREGORIAN
METHOD:PUBLISH
PRODID://JCOC//1419606
BEGIN:VEVENT
DTSTAMP:20260424T094656
VTIMEZONE:America/Chicago
DTSTART:20260528T220000Z
DTEND:20260529T010000Z
UID:1419606
SUMMARY:Spring Market Series at Jenks RiverWalk
LOCATION:
DESCRIPTION:Spring Market Series at Jenks RiverWalk\n\n05/28/26 05:00 PM CST\n - 05/28/26 08:00 PM CST\Description:\nEvery Thursday in May, the RiverWalk will host its Spring Market from 5-8 p.m.\n\nThe RiverWalk will come to life with live music on the amphitheater stage, unique vendors, and the great RiverWalk restaurants and shops you know and love! Families can enjoy the the RiverWalk playground and consider a fun evening at Suite Shots Golf.\n\nIf you are interested in participating as a vendor, please complete our application by April 29.\n
X-ALT-DESC;FMTTYPE=text/html:Spring Market Series at Jenks RiverWalk<br /><br />05/28/26 05:00 PM CST - 05/28/26 08:00 PM CST<br />Description:<br /><p>Every Thursday in May, the RiverWalk will host its Spring Market from 5-8 p.m.</p>

<p>The RiverWalk will come to life with live music on the amphitheater stage, unique vendors, and the great RiverWalk restaurants and shops you know and love! Families can enjoy the the RiverWalk playground and consider a fun evening at&nbsp;<a href="http://suiteshotsjenks.com/">Suite Shots Golf</a>.</p>

<p>If you are interested in participating as a vendor, please&nbsp;<a href="https://riverwalk.wufoo.com/forms/spring-market-series-vendor-application/">complete our application</a>&nbsp;by April 29.</p>

PRIORITY:3
TRANSP:TRANSPARENT
BEGIN:VALARM
TRIGGER:-PT5M
ACTION:DISPLAY
DESCRIPTION:Reminder
END:VALARM
END:VEVENT
END:VCALENDAR
