BEGIN:VCALENDAR
VERSION:2.0
CALSCALE:GREGORIAN
METHOD:PUBLISH
PRODID://JCOC//1419610
BEGIN:VEVENT
DTSTAMP:20260424T110155
VTIMEZONE:America/Chicago
DTSTART:20260316T160000Z
DTEND:20260320T190000Z
UID:1419610
SUMMARY:Oklahoma Aquarium Spring Break Tours
LOCATION:Oklahoma Aquarium
DESCRIPTION:Oklahoma Aquarium Spring Break Tours\n\n03/16/26 11:00 AM CST\n - 03/20/26 02:00 PM CST\Description:\nOverview: Spend Spring Break getting a unique behind-the-scenes view of the Oklahoma Aquarium! This year, we are excited to unveil our NEW Spring Break Tour! Join us as we explore our Small Animal Holding Facility and explore behind the World's Largest Bull Shark Tank! Your tour will be guided by one of our knowledgeable educators, who will answer all your questions! This animal encounter lasts 45 minutes. Cancellations must be made at least 24 hours prior to the scheduled encounter in order to receive a refund. Cancellations within 24 hours, no-shows, and late arrivals are non-refundable. This encounter is NOT wheelchair accessible.\n\nWe cannot wait to spend Spring Break with you!\n\nWhen: Monday (3/16/2026) through Friday (3/20/2026) at 11:00 AM & 1:00 PM \nCost: $20 per person (members) or $25 per person plus general admission (non-members)\nCapacity: 10 people or fewer\n\nReserve now\n\n* Must be reserved at least 24 hours in advance.\n\Location:\nOklahoma Aquarium\n\n,
X-ALT-DESC;FMTTYPE=text/html:Oklahoma Aquarium Spring Break Tours<br /><br />03/16/26 11:00 AM CST - 03/20/26 02:00 PM CST<br />Description:<br /><p><strong>Overview:&nbsp;</strong>Spend Spring Break getting a unique behind-the-scenes view of the Oklahoma Aquarium!&nbsp;<strong>This year, we are excited to unveil our NEW Spring Break Tour!&nbsp;</strong>Join us as we explore our Small Animal Holding Facility and explore behind the World's Largest Bull Shark Tank! Your tour will be guided by one of our knowledgeable educators, who will answer all your questions! This animal encounter lasts 45 minutes.<strong>&nbsp;</strong>Cancellations must be made at least 24 hours prior to the scheduled encounter in order to receive a refund. Cancellations within 24 hours, no-shows, and late arrivals are non-refundable.&nbsp;<strong>This encounter is NOT wheelchair accessible.</strong></p>

<p>We cannot wait to spend Spring Break with you!</p>

<p><strong>When:</strong>&nbsp;Monday (3/16/2026) through Friday (3/20/2026) at 11:00 AM &amp; 1:00 PM&nbsp;<br />
<strong>Cost:</strong>&nbsp;$20 per person (members) or $25 per person plus general admission (non-members)<br />
<strong>Capacity:</strong>&nbsp;10 people or fewer</p>

<h3><a href="https://bookeo.com/okaquarium">Reserve now</a></h3>

<p><strong>* Must be reserved at least 24 hours in advance.</strong></p>
<br />Location:<br />Oklahoma Aquarium<br /><br />,  
PRIORITY:3
TRANSP:TRANSPARENT
BEGIN:VALARM
TRIGGER:-PT5M
ACTION:DISPLAY
DESCRIPTION:Reminder
END:VALARM
END:VEVENT
END:VCALENDAR
