BEGIN:VCALENDAR
VERSION:2.0
CALSCALE:GREGORIAN
METHOD:PUBLISH
PRODID://JCOC//1419611
BEGIN:VEVENT
DTSTAMP:20260424T110232
VTIMEZONE:America/Chicago
DTSTART:20260316T200000Z
DTEND:20260320T210000Z
UID:1419611
SUMMARY:Oklahoma Aquarium Sea Turtle Encounter
LOCATION:Oklahoma Aquarium
DESCRIPTION:Oklahoma Aquarium Sea Turtle Encounter\n\n03/16/26 03:00 PM CST\n - 03/20/26 04:00 PM CST\Description:\nOverview: Get a behind-the-scenes look at our loggerhead sea turtle during our Sea Turtle Encounter! Participants will receive a 15-minute lesson about sea turtles and how we can help conserve them in the wild, followed by the opportunity to watch our staff feed. This animal encounter lasts 30 minutes. Cancellations must be made at least 24 hours prior to the scheduled encounter in order to receive a refund. Cancellations within 24 hours, no-shows, and late arrivals are non-refundable. This encounter is NOT wheelchair accessible.\n\nWhen: Monday-Friday at 3:00 p.m.\nCost: $20 per person (members) or $25 per person plus general admission (non-members)\nCapacity: 6 people or fewer\n\nReserve now\n\n* Must be reserved at least 24 hours in advance.\n\Location:\nOklahoma Aquarium\n\n,
X-ALT-DESC;FMTTYPE=text/html:Oklahoma Aquarium Sea Turtle Encounter<br /><br />03/16/26 03:00 PM CST - 03/20/26 04:00 PM CST<br />Description:<br /><p><strong>Overview:&nbsp;Get a behind-the-scenes look at our loggerhead sea turtle during our Sea Turtle Encounter! Participants will receive a 15-minute lesson about sea turtles and how we can help conserve them in the wild, followed by the opportunity to watch our staff feed. This animal encounter lasts 30 minutes.&nbsp;Cancellations must be made at least 24 hours prior to the scheduled encounter in order to receive a refund. Cancellations within 24 hours, no-shows, and late arrivals are non-refundable.&nbsp;This encounter is NOT wheelchair accessible.</strong></p>

<p><strong>When:</strong>&nbsp;Monday-Friday at 3:00 p.m.<br />
<strong>Cost:</strong>&nbsp;$20 per person (members) or $25 per person plus general admission (non-members)<br />
<strong>Capacity:</strong>&nbsp;6 people or fewer</p>

<h3><a href="https://bookeo.com/okaquarium">Reserve now</a></h3>

<p><strong>* Must be reserved at least 24 hours in advance.</strong></p>
<br />Location:<br />Oklahoma Aquarium<br /><br />,  
PRIORITY:3
TRANSP:TRANSPARENT
BEGIN:VALARM
TRIGGER:-PT5M
ACTION:DISPLAY
DESCRIPTION:Reminder
END:VALARM
END:VEVENT
END:VCALENDAR
