BEGIN:VCALENDAR
VERSION:2.0
CALSCALE:GREGORIAN
METHOD:PUBLISH
PRODID://JCOC//1419612
BEGIN:VEVENT
DTSTAMP:20260424T110618
VTIMEZONE:America/Chicago
DTSTART:20260316T210000Z
DTEND:20260323T010000Z
UID:1419612
SUMMARY:Design Your Own Cookie Cake or Ice Cream Cake at Marble Slab
LOCATION:Marble Slab Creamery, 500 Riverwalk Terrace #125, Jenks, OK, 74037
DESCRIPTION:Design Your Own Cookie Cake or Ice Cream Cake at Marble Slab\n\n03/16/26 04:00 PM CST\n - 03/22/26 08:00 PM CST\Location:\nMarble Slab Creamery\n500 Riverwalk Terrace #125\nJenks, OK 74037
X-ALT-DESC;FMTTYPE=text/html:Design Your Own Cookie Cake or Ice Cream Cake at Marble Slab<br /><br />03/16/26 04:00 PM CST - 03/22/26 08:00 PM CST<br />Location:<br />Marble Slab Creamery<br />500 Riverwalk Terrace #125<br />Jenks, OK 74037
PRIORITY:3
TRANSP:TRANSPARENT
BEGIN:VALARM
TRIGGER:-PT5M
ACTION:DISPLAY
DESCRIPTION:Reminder
END:VALARM
END:VEVENT
END:VCALENDAR
