BEGIN:VCALENDAR
VERSION:2.0
CALSCALE:GREGORIAN
METHOD:PUBLISH
PRODID://JCOC//1419617
BEGIN:VEVENT
DTSTAMP:20260424T110618
VTIMEZONE:America/Chicago
DTSTART:20260318T184500Z
DTEND:20260320T194500Z
UID:1419617
SUMMARY:Oklahoma Aquarium Shark Feed Tour
LOCATION:Oklahoma Aquarium
DESCRIPTION:Oklahoma Aquarium Shark Feed Tour\n\n03/18/26 01:45 PM CST\n - 03/20/26 02:45 PM CST\Description:\nOverview: Enjoy an exclusive view from the top of our world-famous bull shark exhibit during feeding time! Guests will receive a 15-minute lesson about shark biology, shark myths, and our shark species at the Oklahoma Aquarium. Guests will then visit the food prep kitchen before going above our Shark Adventure tank to watch the famous ocean predators chow down. This tour lasts about 45 minutes. This tour is NOT wheelchair accessible.\n\nWhen: Mondays and Thursdays at 1:45 PM \nCost: $20 per person (members) or $25 per person plus general admission (non-members)\nCapacity: 15 people or fewer\n\nhttps://www-151c.bookeo.com/bookeo/b_okaquarium_start.html?ctlsrc2=KEyk5bH7Tbs%2F2NHveigZDbsfVucqEjmg8RxhnnfMWrE%3D&src=03o\n\Location:\nOklahoma Aquarium\n\n,
X-ALT-DESC;FMTTYPE=text/html:Oklahoma Aquarium Shark Feed Tour<br /><br />03/18/26 01:45 PM CST - 03/20/26 02:45 PM CST<br />Description:<br /><p><strong>Overview:&nbsp;</strong>Enjoy an exclusive view from the top of our world-famous bull shark exhibit during feeding time! Guests will receive a 15-minute lesson about shark biology, shark myths, and our shark species at the Oklahoma Aquarium. Guests will then visit the food prep kitchen before going above our Shark Adventure tank to watch the famous ocean predators chow down. This tour lasts about 45 minutes.&nbsp;<strong>This tour is NOT wheelchair accessible.</strong></p>

<p><strong id="isPasted">When:</strong>&nbsp;Mondays and Thursdays at 1:45 PM&nbsp;<br />
<strong>Cost:</strong>&nbsp;$20 per person (members) or $25 per person plus general admission (non-members)<br />
<strong>Capacity:&nbsp;</strong>15 people or fewer<br />
<br />
https://www-151c.bookeo.com/bookeo/b_okaquarium_start.html?ctlsrc2=KEyk5bH7Tbs%2F2NHveigZDbsfVucqEjmg8RxhnnfMWrE%3D&amp;src=03o</p>
<br />Location:<br />Oklahoma Aquarium<br /><br />,  
PRIORITY:3
TRANSP:TRANSPARENT
BEGIN:VALARM
TRIGGER:-PT5M
ACTION:DISPLAY
DESCRIPTION:Reminder
END:VALARM
END:VEVENT
END:VCALENDAR
