BEGIN:VCALENDAR
VERSION:2.0
CALSCALE:GREGORIAN
METHOD:PUBLISH
PRODID://JCOC//1419621
BEGIN:VEVENT
DTSTAMP:20260424T094657
VTIMEZONE:America/Chicago
DTSTART:20260425T130000Z
DTEND:20260425T210000Z
UID:1419621
SUMMARY:Jenks Herb & Plant Festival 2026
LOCATION:Main Street Jenks, Jenks, OK, 74037
DESCRIPTION:Jenks Herb & Plant Festival 2026\n\n04/25/26 08:00 AM CST\n - 04/25/26 04:00 PM CST\Description:\nJenks Garden Club hosts the 30th annual Herb & Plant Festival takes place on Main Street.  The annual Jenks Herb & Plant Festival will feature booths filled with a variety of locally grown herbs and plants, garden decorations and much more. Come to the Jenks Herb & Plant Festival to shop for annuals, perennials, hanging baskets, herbs, tomato plants, fresh vegetables and heirloom plants. Vendors will also be on hand with booths filled to the brim with Oklahoma wine, garden and home decor, jewelry, arts and crafts, birdhouses, bath and body products, and more.\Location:\nMain Street Jenks\n\nJenks, OK 74037
X-ALT-DESC;FMTTYPE=text/html:Jenks Herb & Plant Festival 2026<br /><br />04/25/26 08:00 AM CST - 04/25/26 04:00 PM CST<br />Description:<br />Jenks Garden Club hosts the 30th annual Herb &amp; Plant Festival takes place on Main Street. &nbsp;The annual Jenks Herb &amp; Plant Festival will feature&nbsp;booths filled with a variety of locally grown herbs and plants, garden decorations and much more. Come to the Jenks Herb &amp; Plant Festival to shop for annuals, perennials, hanging baskets, herbs, tomato plants, fresh vegetables and heirloom plants.&nbsp;Vendors will also be on hand with booths filled to the brim with Oklahoma wine, garden and home decor, jewelry, arts and crafts, birdhouses, bath and body products, and more.<br />Location:<br />Main Street Jenks<br /><br />Jenks, OK 74037
PRIORITY:3
TRANSP:TRANSPARENT
BEGIN:VALARM
TRIGGER:-PT5M
ACTION:DISPLAY
DESCRIPTION:Reminder
END:VALARM
END:VEVENT
END:VCALENDAR
