BEGIN:VCALENDAR
VERSION:2.0
CALSCALE:GREGORIAN
METHOD:PUBLISH
PRODID://OCON//1420307
BEGIN:VEVENT
DTSTAMP:20260424T115309
VTIMEZONE:America/New_York
DTSTART:20260218T160000Z
DTEND:20260218T180000Z
UID:1420307
SUMMARY:Women in Business Quarterly Luncheon
LOCATION:Wire Park Ballroom, 1725 Electric Avenue, Watkinsville, GA, 30677
DESCRIPTION:Women in Business Quarterly Luncheon\n\n02/18/26 11:00 AM EST\n - 02/18/26 01:00 PM EST\Description:\nJoin us for our first Women in Business Quarterly Luncheon of the year!\n\nVenue: The Ballroom at Wire Park\nSpeaker: JMAC's Clothier Fashion and Color Analysis from Refine Image Consulting\nPresenting Sponsor:\nDecor Sponsor: Encourage H.E.R. Academy\nLunch: Taziki's Mediterranean Cafe\n\nWe are collecting to be donated to Hope Haven if you would like to participate their wishlist is below. Please bring them to the event!\nhttps://www.amazon.com/hz/wishlist/ls/2GNYAT981VXFT/ref=hz_ls_biz_ex \n\nAll ticket sales goes to our Woman in Business scholarship. That scholarship is used to go to a woman in our community that has a need! \n\nRegistration Required!\n\nIf event becomes sold out and you would like to be added to the waitlist, please email Caroline Middlebrooks at cmiddlebrooks@oconeechamber.org!\Location:\nWire Park Ballroom\n1725 Electric Avenue\nWatkinsville, GA 30677
X-ALT-DESC;FMTTYPE=text/html:Women in Business Quarterly Luncheon<br /><br />02/18/26 11:00 AM EST - 02/18/26 01:00 PM EST<br />Description:<br />Join us for our first Women in Business Quarterly Luncheon of the year!<br />
<br />
Venue: The Ballroom at Wire Park<br />
Speaker: JMAC's Clothier Fashion and Color Analysis from Refine Image Consulting<br />
Presenting Sponsor:<br />
Decor Sponsor: Encourage H.E.R. Academy<br />
Lunch: Taziki's Mediterranean Cafe<br />
<br />
<em>We are collecting to be donated to&nbsp;<strong>Hope Haven&nbsp;</strong>if you would like to participate their wishlist is below. Please bring them to the event!<br />
https://www.amazon.com/hz/wishlist/ls/2GNYAT981VXFT/ref=hz_ls_biz_ex&nbsp;</em><br />
<br />
All ticket sales goes to our Woman in Business scholarship. That scholarship is used to go to a woman in our community that has a need!&nbsp;<br />
<br />
<strong>Registration Required!</strong><br />
<br />
If event becomes sold out and you would like to be added to the waitlist, please email Caroline Middlebrooks at cmiddlebrooks@oconeechamber.org!<br />Location:<br />Wire Park Ballroom<br />1725 Electric Avenue<br />Watkinsville, GA 30677
PRIORITY:3
TRANSP:TRANSPARENT
BEGIN:VALARM
TRIGGER:-PT5M
ACTION:DISPLAY
DESCRIPTION:Reminder
END:VALARM
END:VEVENT
END:VCALENDAR
