BEGIN:VCALENDAR
VERSION:2.0
CALSCALE:GREGORIAN
METHOD:PUBLISH
PRODID://JCOC//1420481
BEGIN:VEVENT
DTSTAMP:20260424T110155
VTIMEZONE:America/Chicago
DTSTART:20260324T190000Z
DTEND:20260324T200000Z
UID:1420481
SUMMARY:Ribbon Cutting: Goldfish Swim School
LOCATION:, 7514 S Olympia Ave, Tulsa, OK, 74132
DESCRIPTION:Ribbon Cutting: Goldfish Swim School\n\n03/24/26 02:00 PM CST\n - 03/24/26 03:00 PM CST\Description:\nJoin the Jenks Chamber of Commerce as we celebrate the grand opening of Goldfish Swim School Tulsa Hills\n\nTuesday, March 24\n2:00 PM\n7514 S Olympia Ave, Tulsa, OK 74132\n\nGoldfish Swim School provides swim lessons for children ages 4 months to 12 years in a warm, 90 degree pool with small class sizes focused on water safety, confidence, and fun\n\nCome welcome this new business to our community, meet their team, and help us celebrate their opening\n\Location:\n\n7514 S Olympia Ave\nTulsa, OK 74132
X-ALT-DESC;FMTTYPE=text/html:Ribbon Cutting: Goldfish Swim School<br /><br />03/24/26 02:00 PM CST - 03/24/26 03:00 PM CST<br />Description:<br /><p>Join the Jenks Chamber of Commerce as we celebrate the grand opening of Goldfish Swim School Tulsa Hills</p>

<p>Tuesday, March 24<br />
2:00 PM<br />
7514 S Olympia Ave, Tulsa, OK 74132</p>

<p>Goldfish Swim School provides swim lessons for children ages 4 months to 12 years in a warm, 90 degree pool with small class sizes focused on water safety, confidence, and fun</p>

<p>Come welcome this new business to our community, meet their team, and help us celebrate their opening</p>
<br />Location:<br /><br />7514 S Olympia Ave<br />Tulsa, OK 74132
PRIORITY:3
TRANSP:TRANSPARENT
BEGIN:VALARM
TRIGGER:-PT5M
ACTION:DISPLAY
DESCRIPTION:Reminder
END:VALARM
END:VEVENT
END:VCALENDAR
