BEGIN:VCALENDAR
VERSION:2.0
CALSCALE:GREGORIAN
METHOD:PUBLISH
PRODID://JCOC//1420565
BEGIN:VEVENT
DTSTAMP:20260424T110155
VTIMEZONE:America/Chicago
DTSTART:20260408T213000Z
DTEND:20260408T233000Z
UID:1420565
SUMMARY:Ribbon Cutting & Open House: Jenks Fire Station 1
LOCATION:, 208 N. Elm Street, Jenks, OK, 74037
DESCRIPTION:Ribbon Cutting & Open House: Jenks Fire Station 1\n\n04/08/26 04:30 PM CST\n - 04/08/26 06:30 PM CST\Description:\nJoin the Jenks Chamber of Commerce and the Jenks Fire Department for a ribbon cutting and open house celebrating the new Fire Station 1.\n\nDate: April 8th\nTime: 4:30 PM – 6:30 PM\nLocation: 208 N. Elm Street, Jenks, OK\n\nThe event will begin at 4:30 PM with self guided tours of the new station. Firefighters will be located throughout the station to answer questions and show attendees equipment.\n\nThe Jenks Chamber will host the official ribbon cutting at 5:00 PM, immediately followed by a traditional fire truck wash and dry ceremony, a long standing fire service tradition.\n\nThe community is invited to attend, explore the new facility, and celebrate this important addition to Jenks public safety.  Light refreshments will be served.\n\Location:\n\n208 N. Elm Street\nJenks, OK 74037
X-ALT-DESC;FMTTYPE=text/html:Ribbon Cutting & Open House: Jenks Fire Station 1<br /><br />04/08/26 04:30 PM CST - 04/08/26 06:30 PM CST<br />Description:<br /><p>Join the Jenks Chamber of Commerce and the Jenks Fire Department for a ribbon cutting and open house celebrating the new Fire Station 1.</p>

<p>Date: April 8th<br />
Time: 4:30 PM &ndash; 6:30 PM<br />
Location: 208 N. Elm Street, Jenks, OK</p>

<p>The event will begin at 4:30 PM with self guided tours of the new station. Firefighters will be located throughout the station to answer questions and show attendees equipment.</p>

<p>The Jenks Chamber will host the official ribbon cutting at 5:00 PM, immediately followed by a traditional fire truck wash and dry ceremony, a long standing fire service tradition.</p>

<p>The community is invited to&nbsp;attend, explore the new facility, and celebrate this important addition to Jenks public safety. &nbsp;Light refreshments will be served.</p>
<br />Location:<br /><br />208 N. Elm Street<br />Jenks, OK 74037
PRIORITY:3
TRANSP:TRANSPARENT
BEGIN:VALARM
TRIGGER:-PT5M
ACTION:DISPLAY
DESCRIPTION:Reminder
END:VALARM
END:VEVENT
END:VCALENDAR
