BEGIN:VCALENDAR
VERSION:2.0
CALSCALE:GREGORIAN
METHOD:PUBLISH
PRODID://OCON//1420595
BEGIN:VEVENT
DTSTAMP:20260424T143057
VTIMEZONE:America/New_York
DTSTART:20260821T123000Z
DTEND:20260821T133000Z
UID:1420595
SUMMARY:The Morning Mix'n | The Food Bank of Northeast Georgia
LOCATION:The Food Bank of Northeast Georgia, 890 Newton Bridge Road, Athens, GA, 30607
DESCRIPTION:The Morning Mix'n | The Food Bank of Northeast Georgia\n\n08/21/26 08:30 AM EST\n - 08/21/26 09:30 AM EST\Description:\nStart your day with a morning open networking event held at an Oconee Chamber Partner's location. Drop in anytime between 8:30 a.m. - 9:30 a.m. \n \Location:\nThe Food Bank of Northeast Georgia\n890 Newton Bridge Road\nAthens, GA 30607
X-ALT-DESC;FMTTYPE=text/html:The Morning Mix'n | The Food Bank of Northeast Georgia<br /><br />08/21/26 08:30 AM EST - 08/21/26 09:30 AM EST<br />Description:<br />Start your day with a morning open networking event held at an Oconee Chamber Partner's location. Drop in anytime between 8:30 a.m. - 9:30 a.m.&nbsp;<br />
&nbsp;<br />Location:<br />The Food Bank of Northeast Georgia<br />890 Newton Bridge Road<br />Athens, GA 30607
PRIORITY:3
TRANSP:TRANSPARENT
BEGIN:VALARM
TRIGGER:-PT5M
ACTION:DISPLAY
DESCRIPTION:Reminder
END:VALARM
END:VEVENT
END:VCALENDAR
