BEGIN:VCALENDAR
VERSION:2.0
CALSCALE:GREGORIAN
METHOD:PUBLISH
PRODID://JCOC//1420672
BEGIN:VEVENT
DTSTAMP:20260424T110155
VTIMEZONE:America/Chicago
DTSTART:20260320T160000Z
DTEND:20260320T180000Z
UID:1420672
SUMMARY:Oklahoma Aquarium World Frog Day Party
LOCATION:Oklahoma Aquarium, 300 Aquarium Drive, Jenks, Ok, 74037
DESCRIPTION:Oklahoma Aquarium World Frog Day Party\n\n03/20/26 11:00 AM CST\n - 03/20/26 01:00 PM CST\Description:\nWe know that you have been looking for ways to celebrate your favorite holiday of the year. Well, look no further, we've got the perfect World Frog Day plans for you! \n \n\nJoin us at the OKAQ for our World Frog Day Celebration happening on March 20th from 11:00 AM to 1:00 PM. We will be celebrating with your favorite musical guest, Hot Toast, while learning and crafting froggy activities!\n\n \n\nYou don't want to miss out on this hopping event!\n\nCost:  Free with Daily Admission or Membership\n\Location:\nOklahoma Aquarium\n300 Aquarium Drive\nJenks, Ok 74037
X-ALT-DESC;FMTTYPE=text/html:Oklahoma Aquarium World Frog Day Party<br /><br />03/20/26 11:00 AM CST - 03/20/26 01:00 PM CST<br />Description:<br /><p data-pasted="true">We know that you have been looking for ways to celebrate your favorite holiday of the year.&nbsp;Well, look no further, we've got the perfect World Frog Day plans for you!&nbsp;<br />
&nbsp;</p>

<p>Join us at the OKAQ for our World Frog Day Celebration happening on March 20th from 11:00 AM to 1:00 PM. We will be celebrating with your favorite musical guest,&nbsp;<strong>Hot Toast,</strong>&nbsp;while learning and crafting froggy activities!</p>

<p>&nbsp;</p>

<p>You don't want to miss out on this hopping event!<br />
<br />
Cost:&nbsp; Free with Daily Admission or Membership</p>
<br />Location:<br />Oklahoma Aquarium<br />300 Aquarium Drive<br />Jenks, Ok 74037
PRIORITY:3
TRANSP:TRANSPARENT
BEGIN:VALARM
TRIGGER:-PT5M
ACTION:DISPLAY
DESCRIPTION:Reminder
END:VALARM
END:VEVENT
END:VCALENDAR
