BEGIN:VCALENDAR
VERSION:2.0
CALSCALE:GREGORIAN
METHOD:PUBLISH
PRODID://JCOC//1420679
BEGIN:VEVENT
DTSTAMP:20260424T110155
VTIMEZONE:America/Chicago
DTSTART:20260404T150000Z
DTEND:20260404T170000Z
UID:1420679
SUMMARY:Oklahoma Aquarium Bunny Trail Party
LOCATION:Oklahoma Aquarium, 300 Aquarium Drive, Jenks, Ok, 74037
DESCRIPTION:Oklahoma Aquarium Bunny Trail Party\n\n04/04/26 10:00 AM CST\n - 04/04/26 12:00 PM CST\Description:\nðŸ°ðŸŒ¸ Join Us for our Annual Bunny Trail Party at the Oklahoma Aquarium! ðŸ£ðŸ \n\nHop on over for a day of egg-citing fun on Saturday, April 4, 2026, from 10:00 AM - 12:00 PM!\n\nðŸŒ· What’s in store?\nðŸ‡ Meet the Easter Bunny! Snap a photo with the bunny at our adorable indoor photo op.\nðŸ¬ Bunny Stops & Candy Galore! Visit our community partners to collect candy & treats. \nðŸŽ­ Shipley Shenanigans! Say hi to Shipley, our OKAQ mascot—he’ll be dancing, high-fiving, and bringing all the fun.\nðŸŒˆ Rainbowland Arts! Enjoy FREE face painting.\nðŸŽµ DJ Majda! Hop to the beat and dance to the music.\n\nðŸŽŸ Admission: This event is FREE for members or included with your daily admission. Children 3 and under are FREE!\n\nðŸ“… Date: April 4, 2026\nâ° Time: 10:00 AM - 12:00 PM\nðŸ“ Location: Oklahoma Aquarium\nðŸ“§ Admission Tickets: \n\nðŸ’¡ Important Info:\nâœ”ï¸ All are welcome while supplies last—first come, first served.\nâœ”ï¸ Please bring your own Easter basket, bucket, or bag for collecting treats.\nâœ”ï¸ Rides and feeding experiences are not included in admission.\n\nðŸŸâœ¨ Bring your baskets, grab your friends and family, and get ready for a celebration like no other! See you at the Oklahoma Aquarium! ðŸŽ‰\n\nWant to be a free candy trail vendor?  Click here\n\n \n\n \n \n\n \n\Location:\nOklahoma Aquarium\n300 Aquarium Drive\nJenks, Ok 74037
X-ALT-DESC;FMTTYPE=text/html:Oklahoma Aquarium Bunny Trail Party<br /><br />04/04/26 10:00 AM CST - 04/04/26 12:00 PM CST<br />Description:<br /><p id="isPasted"><strong>ðŸ°ðŸŒ¸ Join Us for our Annual Bunny Trail Party at the Oklahoma Aquarium! ðŸ£ðŸ </strong></p>

<p>Hop on over for a day of&nbsp;<strong>egg-citing</strong>&nbsp;fun on&nbsp;<strong>Saturday, April 4, 2026, from 10:00 AM - 12:00 PM!</strong></p>

<p>ðŸŒ·&nbsp;<strong>What&rsquo;s in store?</strong><br />
ðŸ‡&nbsp;<strong>Meet the Easter Bunny!</strong>&nbsp;Snap a photo with the bunny at our adorable indoor photo op.<br />
ðŸ¬&nbsp;<strong>Bunny Stops &amp; Candy Galore!</strong>&nbsp;Visit our community partners to collect candy &amp; treats.&nbsp;<br />
ðŸŽ­&nbsp;<strong>Shipley Shenanigans!</strong>&nbsp;Say hi to Shipley, our OKAQ mascot&mdash;he&rsquo;ll be dancing, high-fiving, and bringing all the fun.<br />
<strong>ðŸŒˆ Rainbowland Arts!</strong>&nbsp;Enjoy FREE face painting.<br />
ðŸŽµ&nbsp;<strong>DJ Majda!&nbsp;</strong>Hop to the beat and dance to the music.</p>

<p>ðŸŽŸ&nbsp;<strong>Admission:</strong>&nbsp;This event is&nbsp;<strong>FREE for members</strong>&nbsp;or included with your daily admission.&nbsp;<strong>Children 3 and under are FREE!</strong></p>

<p>ðŸ“…&nbsp;<strong>Date:</strong>&nbsp;April 4, 2026<br />
â°&nbsp;<strong>Time:</strong>&nbsp;10:00 AM - 12:00 PM<br />
ðŸ“&nbsp;<strong>Location:</strong>&nbsp;Oklahoma Aquarium<br />
ðŸ“§&nbsp;<strong>Admission&nbsp;</strong><strong>Tickets</strong><strong>:</strong>&nbsp;</p>

<p><strong>ðŸ’¡ Important Info:</strong><br />
âœ”ï¸ All are welcome while supplies last&mdash;<strong>first come, first served.</strong><br />
âœ”ï¸ Please bring your own&nbsp;<strong>Easter basket, bucket, or bag</strong>&nbsp;for collecting treats.<br />
âœ”ï¸&nbsp;<em>Rides and feeding experiences are not included in admission.</em></p>

<p>ðŸŸâœ¨ Bring your baskets, grab your friends and family, and get ready for a celebration like no other!&nbsp;<strong>See you at the Oklahoma Aquarium!</strong>&nbsp;ðŸŽ‰<br />
<br />
<em><strong>Want to be a free candy trail vendor?&nbsp; <a href="https://docs.google.com/forms/d/e/1FAIpQLSf7s_z_xPSOskNuaqL5uauSXTSsurfxs_odFDrAB7vDnwBhrA/viewform">Click here</a></strong></em></p>

<h1>&nbsp;</h1>

<p id="isPasted">&nbsp;</p>
&nbsp;

<h1>&nbsp;</h1>
<br />Location:<br />Oklahoma Aquarium<br />300 Aquarium Drive<br />Jenks, Ok 74037
PRIORITY:3
TRANSP:TRANSPARENT
BEGIN:VALARM
TRIGGER:-PT5M
ACTION:DISPLAY
DESCRIPTION:Reminder
END:VALARM
END:VEVENT
END:VCALENDAR
